BEGIN:VCALENDAR
VERSION:2.0
PRODID:-//Noor Collective - San Diego Shia Islamic Center - ECPv5.1.6//NONSGML v1.0//EN
CALSCALE:GREGORIAN
METHOD:PUBLISH
X-WR-CALNAME:Noor Collective - San Diego Shia Islamic Center
X-ORIGINAL-URL:https://noorcollective.org
X-WR-CALDESC:Events for Noor Collective - San Diego Shia Islamic Center
BEGIN:VTIMEZONE
TZID:America/Los_Angeles
BEGIN:DAYLIGHT
TZOFFSETFROM:-0800
TZOFFSETTO:-0700
TZNAME:PDT
DTSTART:20200308T100000
END:DAYLIGHT
BEGIN:STANDARD
TZOFFSETFROM:-0700
TZOFFSETTO:-0800
TZNAME:PST
DTSTART:20201101T090000
END:STANDARD
END:VTIMEZONE
BEGIN:VEVENT
DTSTART;TZID=America/Los_Angeles:20200221T190000
DTEND;TZID=America/Los_Angeles:20200221T210000
DTSTAMP:20260424T194121
CREATED:20200218T005800Z
LAST-MODIFIED:20200218T005952Z
UID:2897-1582311600-1582318800@noorcollective.org
SUMMARY:What is Love In Islam?
DESCRIPTION:In this week’s program\, we will explore the concept of love in Islam. Does love have any limits? How do we know if we truly love Allah? In spite of being sinful\, is there a point where God stops loving us? \n  \nSchedule: \n7:00PM: Isha Prayer \n7:20PM: Quran \n7:30PM: Speech / Q&A \n8:30PM: Dinner
URL:https://noorcollective.org/event/what-is-love-in-islam/
LOCATION:Noor Collective\, 7969 ENGINEER RD #110\, San diego\, CA\, 92111\, United States
CATEGORIES:Lecture
ORGANIZER;CN="Noor%20Collective":MAILTO:sourceseyed@gmail.com
END:VEVENT
END:VCALENDAR