BEGIN:VCALENDAR
VERSION:2.0
PRODID:-//Noor Collective - San Diego Shia Islamic Center - ECPv5.1.6//NONSGML v1.0//EN
CALSCALE:GREGORIAN
METHOD:PUBLISH
X-WR-CALNAME:Noor Collective - San Diego Shia Islamic Center
X-ORIGINAL-URL:https://noorcollective.org
X-WR-CALDESC:Events for Noor Collective - San Diego Shia Islamic Center
BEGIN:VTIMEZONE
TZID:America/Los_Angeles
BEGIN:DAYLIGHT
TZOFFSETFROM:-0800
TZOFFSETTO:-0700
TZNAME:PDT
DTSTART:20170312T100000
END:DAYLIGHT
BEGIN:STANDARD
TZOFFSETFROM:-0700
TZOFFSETTO:-0800
TZNAME:PST
DTSTART:20171105T090000
END:STANDARD
END:VTIMEZONE
BEGIN:VEVENT
DTSTART;TZID=America/Los_Angeles:20170310T190000
DTEND;TZID=America/Los_Angeles:20170310T213000
DTSTAMP:20260421T120241
CREATED:20170221T063337Z
LAST-MODIFIED:20170221T063337Z
UID:1834-1489172400-1489181400@noorcollective.org
SUMMARY:Workshop: Familial and Romantic Relationships
DESCRIPTION:In this workshop\, we will be presenting and discussing several scenarios related to Familial and Romantic Relationships\, and how to navigate them in an Islamic manner.
URL:https://noorcollective.org/event/workshop-familial-romantic-relationships/
LOCATION:Noor Collective\, 7969 ENGINEER RD #110\, San diego\, CA\, 92111\, United States
CATEGORIES:Lecture
END:VEVENT
END:VCALENDAR