BEGIN:VCALENDAR
VERSION:2.0
PRODID:-//Noor Collective - San Diego Shia Islamic Center - ECPv5.1.6//NONSGML v1.0//EN
CALSCALE:GREGORIAN
METHOD:PUBLISH
X-WR-CALNAME:Noor Collective - San Diego Shia Islamic Center
X-ORIGINAL-URL:https://noorcollective.org
X-WR-CALDESC:Events for Noor Collective - San Diego Shia Islamic Center
BEGIN:VTIMEZONE
TZID:America/Los_Angeles
BEGIN:DAYLIGHT
TZOFFSETFROM:-0800
TZOFFSETTO:-0700
TZNAME:PDT
DTSTART:20250309T100000
END:DAYLIGHT
BEGIN:STANDARD
TZOFFSETFROM:-0700
TZOFFSETTO:-0800
TZNAME:PST
DTSTART:20251102T090000
END:STANDARD
END:VTIMEZONE
BEGIN:VEVENT
DTSTART;TZID=America/Los_Angeles:20250110T190000
DTEND;TZID=America/Los_Angeles:20250110T210000
DTSTAMP:20260421T205027
CREATED:20250109T060801Z
LAST-MODIFIED:20250109T060801Z
UID:3988-1736535600-1736542800@noorcollective.org
SUMMARY:Ya Ali! Celebrating The Legacy of Imam Ali (as)
DESCRIPTION:Ya Ali – Celebrating the legacy of Imam Ali (as) @ 7:00pm \nSchedule:\n7:00pm: Doors open\n7:05pm: Isha Prayer\n7:15pm: Lecture by Seyed Ali Musawi\n8:00pm: Games with prizes!\n8:30pm: Dinner / Cake \nAll programs are held at: 7969 ENGINEER RD #110\, SAN DIEGO\, CA 92111 https://goo.gl/maps/i2HTdSVmLKjW25XR8
URL:https://noorcollective.org/event/ya-ali-celebrating-the-legacy-of-imam-ali-as/
CATEGORIES:Lecture
END:VEVENT
END:VCALENDAR