BEGIN:VCALENDAR
VERSION:2.0
PRODID:-//Noor Collective - San Diego Shia Islamic Center - ECPv5.1.6//NONSGML v1.0//EN
CALSCALE:GREGORIAN
METHOD:PUBLISH
X-WR-CALNAME:Noor Collective - San Diego Shia Islamic Center
X-ORIGINAL-URL:https://noorcollective.org
X-WR-CALDESC:Events for Noor Collective - San Diego Shia Islamic Center
BEGIN:VTIMEZONE
TZID:America/Los_Angeles
BEGIN:DAYLIGHT
TZOFFSETFROM:-0800
TZOFFSETTO:-0700
TZNAME:PDT
DTSTART:20230312T100000
END:DAYLIGHT
BEGIN:STANDARD
TZOFFSETFROM:-0700
TZOFFSETTO:-0800
TZNAME:PST
DTSTART:20231105T090000
END:STANDARD
END:VTIMEZONE
BEGIN:VEVENT
DTSTART;TZID=America/Los_Angeles:20230602T190000
DTEND;TZID=America/Los_Angeles:20230602T190000
DTSTAMP:20260425T151555
CREATED:20230601T001145Z
LAST-MODIFIED:20230601T001229Z
UID:3574-1685732400-1685732400@noorcollective.org
SUMMARY:Islam and Gender Identity
DESCRIPTION:Join us on Friday at 6:45pm as Seyed Ali goes over Gender Identity in Islam. This will be at our new location: 7969 ENGINEER RD #110\, SAN DIEGO\, CA 92111 https://goo.gl/maps/i2HTdSVmLKjW25XR8 \nStreet parking is preferred but if not available park inside the complex. Do not park with spots that have cones in front of them as those are reserved. \nSchedule:\n6:45pm: Door Opens\n7:00pm: Lecture by Seyed Ali Musawi\n7:40pm: Prayers\n8:00pm: Light Dinner
URL:https://noorcollective.org/event/islam-and-gender-identity/
CATEGORIES:Lecture
ATTACH;FMTTYPE=image/png:https://noorcollective.org/wp-content/uploads/YMA_JUN2_2023.png
END:VEVENT
BEGIN:VEVENT
DTSTART;TZID=America/Los_Angeles:20230609T190000
DTEND;TZID=America/Los_Angeles:20230609T190000
DTSTAMP:20260425T151555
CREATED:20230607T155250Z
LAST-MODIFIED:20230607T155250Z
UID:3578-1686337200-1686337200@noorcollective.org
SUMMARY:Islam and Gender Identity Part 2
DESCRIPTION:Join us on Friday at 6:45pm as Seyed Ali goes over the second part of Gender Identity in Islam. This will be at our new location: 7969 ENGINEER RD #110\, SAN DIEGO\, CA 92111 https://goo.gl/maps/i2HTdSVmLKjW25XR8 \nStreet parking is preferred but if not available park inside the complex. Do not park with spots that have cones in front of them as those are reserved. \nSchedule:\n6:45pm: Door Opens\n7:00pm: Lecture by Seyed Ali Musawi\n7:40pm: Prayers\n8:00pm: Light Dinner
URL:https://noorcollective.org/event/islam-and-gender-identity-part-2/
CATEGORIES:Lecture
ATTACH;FMTTYPE=image/png:https://noorcollective.org/wp-content/uploads/YMA_JUN9_2023.png
END:VEVENT
BEGIN:VEVENT
DTSTART;TZID=America/Los_Angeles:20230616T190000
DTEND;TZID=America/Los_Angeles:20230616T203000
DTSTAMP:20260425T151555
CREATED:20230614T185346Z
LAST-MODIFIED:20230614T185413Z
UID:3582-1686942000-1686947400@noorcollective.org
SUMMARY:Shaitaanology 102 - A case study on how Shaitan tricks us
DESCRIPTION:Join us on Friday at 6:45pm as we go over how Shaitan uses his tricks to convince us to abandon the righteous path. This will be at our location: 7969 ENGINEER RD #110\, SAN DIEGO\, CA 92111 https://goo.gl/maps/i2HTdSVmLKjW25XR8 \nStreet parking is preferred but if not available park inside the complex. Do not park with spots that have cones in front of them as those are reserved. \nSchedule:\n6:45pm: Door Opens\n7:00pm: Lecture by Seyed Ali\n7:40pm: Prayers\n8:00pm: Dinner
URL:https://noorcollective.org/event/shaitaanology-102-a-case-study-on-how-shaitan-tricks-us/
CATEGORIES:Lecture
ATTACH;FMTTYPE=image/png:https://noorcollective.org/wp-content/uploads/YMA_JUN16_2023.png
END:VEVENT
BEGIN:VEVENT
DTSTART;TZID=America/Los_Angeles:20230623T110000
DTEND;TZID=America/Los_Angeles:20230623T123000
DTSTAMP:20260425T151555
CREATED:20230622T155739Z
LAST-MODIFIED:20230622T164914Z
UID:3594-1687518000-1687523400@noorcollective.org
SUMMARY:Mommy & Me: Hajj
DESCRIPTION:We’re excited to announce our first-ever Mommy & Me program! \nCome join us this Saturday\, June 24th\, at 11 am as we help the little ones learn about Hajj. There will be story time\, crafts\, and activities. The program will end with prayers inshallah. \nThe suggested age for kids is 0-7 years old. We ask that parents stay with their little ones the entire time. The program will be at our new location: 7969 ENGINEER RD #110\, SAN DIEGO\, CA 92111 https://goo.gl/maps/i2HTdSVmLKjW25XR8
URL:https://noorcollective.org/event/mommy-me-hajj/
CATEGORIES:Meetings
ATTACH;FMTTYPE=image/jpeg:https://noorcollective.org/wp-content/uploads/WhatsApp-Image-2023-06-21-at-23.25.55.jpg
END:VEVENT
BEGIN:VEVENT
DTSTART;TZID=America/Los_Angeles:20230623T130000
DTEND;TZID=America/Los_Angeles:20230623T140000
DTSTAMP:20260425T151555
CREATED:20230621T034643Z
LAST-MODIFIED:20230630T182851Z
UID:3586-1687525200-1687528800@noorcollective.org
SUMMARY:[CANCELED] Friday Prayer @1PM
DESCRIPTION:Unfortunately\, due to unforeseen circumstances\, we will NOT be holding congregational Friday Prayers today. However\, our evening program ‘Death – The Great Journey’ is still happening at 7pm tonight! \nSee you all tonight Inshallah. \n—\nJoin us at 1 pm on Friday as we hold our first ever Jummah prayer. This will be at our location: 7969 ENGINEER RD #110\, SAN DIEGO\, CA 92111 https://goo.gl/maps/i2HTdSVmLKjW25XR8 \nFor our daytime programs\, please DO NOT park in the complex. STREET PARKING ONLY! \n 
URL:https://noorcollective.org/event/friday-prayer-1pm/
CATEGORIES:Lecture
ATTACH;FMTTYPE=image/png:https://noorcollective.org/wp-content/uploads/Friday-Prayer-copy.png
END:VEVENT
BEGIN:VEVENT
DTSTART;TZID=America/Los_Angeles:20230623T190000
DTEND;TZID=America/Los_Angeles:20230623T200000
DTSTAMP:20260425T151555
CREATED:20230622T152858Z
LAST-MODIFIED:20230622T161151Z
UID:3591-1687546800-1687550400@noorcollective.org
SUMMARY:Shaitaanology 102 Part 2 - A case study on how Shaitan tricks us
DESCRIPTION:Join us on Friday at 6:45pm as we continue going over how Shaitan uses his tricks to convince us to abandon the righteous path. This will be at our location: 7969 ENGINEER RD #110\, SAN DIEGO\, CA 92111 https://goo.gl/maps/i2HTdSVmLKjW25XR8 \nStreet parking is preferred but if not available park inside the complex. Do not park with spots that have cones in front of them as those are reserved. \nSchedule:\n6:45pm: Door Opens\n7:00pm: Lecture by Seyed Ali / Q&A\n8:00pm: Prayers\n8:30pm: Dinner
URL:https://noorcollective.org/event/shaitaanology-102-part-2-a-case-study-on-how-shaitan-tricks-us/
CATEGORIES:Lecture
ATTACH;FMTTYPE=image/png:https://noorcollective.org/wp-content/uploads/YMA_JUN23_2023.png
END:VEVENT
BEGIN:VEVENT
DTSTART;TZID=America/Los_Angeles:20230630T130000
DTEND;TZID=America/Los_Angeles:20230630T140000
DTSTAMP:20260425T151555
CREATED:20230629T213238Z
LAST-MODIFIED:20230629T213238Z
UID:3605-1688130000-1688133600@noorcollective.org
SUMMARY:Jummah Prayer @ 1pm
DESCRIPTION:Join us at 1 pm on Friday as we have congregational/Jummah prayer. This will be at our location: 7969 ENGINEER RD #110\, SAN DIEGO\, CA 92111 https://goo.gl/maps/i2HTdSVmLKjW25XR8 \nFor our daytime programs\, please DO NOT park in the complex. STREET PARKING ONLY!
URL:https://noorcollective.org/event/jummah-prayer-1pm/
CATEGORIES:Lecture
ATTACH;FMTTYPE=image/png:https://noorcollective.org/wp-content/uploads/unnamed-7.png
END:VEVENT
BEGIN:VEVENT
DTSTART;TZID=America/Los_Angeles:20230630T184500
DTEND;TZID=America/Los_Angeles:20230630T200000
DTSTAMP:20260425T151555
CREATED:20230629T173450Z
LAST-MODIFIED:20230629T173450Z
UID:3600-1688150700-1688155200@noorcollective.org
SUMMARY:Death - The Great Journey
DESCRIPTION:Join us on Friday at 6:45pm as we discuss death and the steps that we will all go through.This will be at our location: 7969 ENGINEER RD #110\, SAN DIEGO\, CA 92111 https://goo.gl/maps/i2HTdSVmLKjW25XR8 \nStreet parking is preferred but if not available park inside the complex. Do not park with spots that have cones in front of them as those are reserved. \nSchedule:\n6:45pm: Door Opens\n7:00pm: Lecture by Seyed Ali / Q&A\n8:00pm: Prayers\n8:30pm: Dinner
URL:https://noorcollective.org/event/death-the-great-journey/
CATEGORIES:Lecture
ATTACH;FMTTYPE=image/png:https://noorcollective.org/wp-content/uploads/YMA_JUN30_2023.png
END:VEVENT
END:VCALENDAR