BEGIN:VCALENDAR
VERSION:2.0
PRODID:-//Noor Collective - San Diego Shia Islamic Center - ECPv5.1.6//NONSGML v1.0//EN
CALSCALE:GREGORIAN
METHOD:PUBLISH
X-WR-CALNAME:Noor Collective - San Diego Shia Islamic Center
X-ORIGINAL-URL:https://noorcollective.org
X-WR-CALDESC:Events for Noor Collective - San Diego Shia Islamic Center
BEGIN:VTIMEZONE
TZID:America/Los_Angeles
BEGIN:DAYLIGHT
TZOFFSETFROM:-0800
TZOFFSETTO:-0700
TZNAME:PDT
DTSTART:20230312T100000
END:DAYLIGHT
BEGIN:STANDARD
TZOFFSETFROM:-0700
TZOFFSETTO:-0800
TZNAME:PST
DTSTART:20231105T090000
END:STANDARD
END:VTIMEZONE
BEGIN:VEVENT
DTSTART;TZID=America/Los_Angeles:20230630T130000
DTEND;TZID=America/Los_Angeles:20230630T140000
DTSTAMP:20260425T133504
CREATED:20230629T213238Z
LAST-MODIFIED:20230629T213238Z
UID:3605-1688130000-1688133600@noorcollective.org
SUMMARY:Jummah Prayer @ 1pm
DESCRIPTION:Join us at 1 pm on Friday as we have congregational/Jummah prayer. This will be at our location: 7969 ENGINEER RD #110\, SAN DIEGO\, CA 92111 https://goo.gl/maps/i2HTdSVmLKjW25XR8 \nFor our daytime programs\, please DO NOT park in the complex. STREET PARKING ONLY!
URL:https://noorcollective.org/event/jummah-prayer-1pm/
CATEGORIES:Lecture
ATTACH;FMTTYPE=image/png:https://noorcollective.org/wp-content/uploads/unnamed-7.png
END:VEVENT
BEGIN:VEVENT
DTSTART;TZID=America/Los_Angeles:20230630T184500
DTEND;TZID=America/Los_Angeles:20230630T200000
DTSTAMP:20260425T133504
CREATED:20230629T173450Z
LAST-MODIFIED:20230629T173450Z
UID:3600-1688150700-1688155200@noorcollective.org
SUMMARY:Death - The Great Journey
DESCRIPTION:Join us on Friday at 6:45pm as we discuss death and the steps that we will all go through.This will be at our location: 7969 ENGINEER RD #110\, SAN DIEGO\, CA 92111 https://goo.gl/maps/i2HTdSVmLKjW25XR8 \nStreet parking is preferred but if not available park inside the complex. Do not park with spots that have cones in front of them as those are reserved. \nSchedule:\n6:45pm: Door Opens\n7:00pm: Lecture by Seyed Ali / Q&A\n8:00pm: Prayers\n8:30pm: Dinner
URL:https://noorcollective.org/event/death-the-great-journey/
CATEGORIES:Lecture
ATTACH;FMTTYPE=image/png:https://noorcollective.org/wp-content/uploads/YMA_JUN30_2023.png
END:VEVENT
BEGIN:VEVENT
DTSTART;TZID=America/Los_Angeles:20230714T130000
DTEND;TZID=America/Los_Angeles:20230714T140000
DTSTAMP:20260425T133504
CREATED:20230711T215645Z
LAST-MODIFIED:20230711T215645Z
UID:3619-1689339600-1689343200@noorcollective.org
SUMMARY:Jummah Prayer @ 1pm
DESCRIPTION:Join us at 1 pm on Friday as we have congregational/Jummah prayer. This will be at our location: 7969 ENGINEER RD #110\, SAN DIEGO\, CA 92111 https://goo.gl/maps/i2HTdSVmLKjW25XR8 \nFor our daytime programs\, please DO NOT park in the complex. STREET PARKING ONLY!
URL:https://noorcollective.org/event/jummah-prayer-1pm-2/
CATEGORIES:Lecture
ORGANIZER;CN="Noor%20Collective":MAILTO:sourceseyed@gmail.com
END:VEVENT
BEGIN:VEVENT
DTSTART;TZID=America/Los_Angeles:20230714T190000
DTEND;TZID=America/Los_Angeles:20230714T210000
DTSTAMP:20260425T133504
CREATED:20230711T214844Z
LAST-MODIFIED:20230713T172858Z
UID:3617-1689361200-1689368400@noorcollective.org
SUMMARY:Death - The Great Journey Part 2
DESCRIPTION:Join us on Friday at 6:45pm as we discuss death and the steps that we will all go through.This will be at our location: 7969 ENGINEER RD #110\, SAN DIEGO\, CA 92111 https://goo.gl/maps/i2HTdSVmLKjW25XR8 \nStreet parking is preferred but if not available park inside the complex. Do not park with spots that have cones in front of them as those are reserved. \nSchedule:\n6:45pm: Door Opens\n7:00pm: Lecture by Seyed Ali / Q&A\n8:00pm: Prayers\n8:30pm: Dinner
URL:https://noorcollective.org/event/death-the-great-journey-part-2/
CATEGORIES:Lecture
ATTACH;FMTTYPE=image/png:https://noorcollective.org/wp-content/uploads/YMA_JUL14_2023.png
END:VEVENT
BEGIN:VEVENT
DTSTART;TZID=America/Los_Angeles:20230719T193000
DTEND;TZID=America/Los_Angeles:20230721T210000
DTSTAMP:20260425T133504
CREATED:20230711T213149Z
LAST-MODIFIED:20230717T234712Z
UID:3611-1689795000-1689973200@noorcollective.org
SUMMARY:[Women Only] Ustadha Fatemah Meghji: Navigating Difficulties & The Power of Grief in Karbala
DESCRIPTION:We are excited to announce that Ustadha Fatemah Meghji will be holding women-only programs on July 19th\, 20th\, and 21st.  The topic will be Navigating Difficulties & The Power of Grief and Tawakkul in Karbala. These programs will be held at: 7969 ENGINEER RD #110\, SAN DIEGO\, CA 92111 https://goo.gl/maps/i2HTdSVmLKjW25XR8 \nStreet parking is preferred but if not available park inside the complex. Do not park with spots that have cones in front of them as those are reserved. \nJuly 19th-21st  Schedule: \n7:30pm: Quran & Poetry \n8:00pm: Prayers \n8:30pm: Speech by Ustadha Fatemah Meghji\n9:30pm: Dinner \n[post program on Friday Night] Discussion Circle \n  \n\n\n\nBio: Ustadha Fatemah Meghji completed her BA in English Literature and Religious Studies from the University of British Columbia\, after which she left to study in the hawza seminary. She studied at Jamiat al-Zahra for approximately six years and completed the masters program in Qur’anic Tafsir and Qur’anic Sciences. She has been teaching in a professional capacity for several years and previously served as the Islamic Director at the Az-Zahraa Islamic Academy.
URL:https://noorcollective.org/event/women-only-fatemah-meghji-navigating-difficulties-the-power-of-grief-in-karbala/
LOCATION:Noor Collective\, 7969 ENGINEER RD #110\, San diego\, CA\, 92111\, United States
CATEGORIES:Lecture
ATTACH;FMTTYPE=image/png:https://noorcollective.org/wp-content/uploads/Fatemah-Meg-copy.png
END:VEVENT
BEGIN:VEVENT
DTSTART;TZID=America/Los_Angeles:20230725T184500
DTEND;TZID=America/Los_Angeles:20230725T210000
DTSTAMP:20260425T133504
CREATED:20230717T212732Z
LAST-MODIFIED:20230728T072915Z
UID:3624-1690310700-1690318800@noorcollective.org
SUMMARY:[Muharram] Sayed Abbas Razavian - The Believers' Hope
DESCRIPTION:Edit: Our Ashura program will begin at 6:30pm on Friday July 28th. \n————————–\nWe are excited to announce that Sayed Abbas Razavian will be discussing ‘The Believers’ Hope’ in the context of Muharram on July 25th-28th. \nThese programs will be held at: 7969 ENGINEER RD #110\, SAN DIEGO\, CA 92111 https://goo.gl/maps/i2HTdSVmLKjW25XR8\nStreet parking is preferred but if not available park inside the complex. Do not park with spots that have cones in front of them as those are reserved. \nJuly 25th-27th Schedule:\n6:45pm Doors Open\n7:00pm: Ziyarat Ashura + Lecture\n8:00pm: Eulogy\n8:15pm: Prayers\n8:30pm: Dinner \nFriday July 28th: Ashura Program [ending with Zuhr prayers].\nMore details will be posted soon. \nSpeaker Bio:\nSayed Abbas Razavian grew up in the greater Los Angeles area. He received his bachelor’s degree in business administration from the Marshall School of Business at the University of Southern California in 2001. At the age of 21\, he moved to Iran where he spent nearly 2 decades studying Islam in depth.
URL:https://noorcollective.org/event/muharram-sayed-abbas-razavian-the-believers-hope/
LOCATION:Noor Collective\, 7969 ENGINEER RD #110\, San diego\, CA\, 92111\, United States
CATEGORIES:Lecture
ATTACH;FMTTYPE=image/png:https://noorcollective.org/wp-content/uploads/Ashura-20231-copy-1.png
END:VEVENT
BEGIN:VEVENT
DTSTART;TZID=America/Los_Angeles:20230804T130000
DTEND;TZID=America/Los_Angeles:20230804T143000
DTSTAMP:20260425T133504
CREATED:20230804T005232Z
LAST-MODIFIED:20230804T005346Z
UID:3635-1691154000-1691159400@noorcollective.org
SUMMARY:No Friday Prayer [on Aug 4th]
DESCRIPTION:Salam\, unfortunately\, we will NOT be holding Jummah prayers this Friday.
URL:https://noorcollective.org/event/no-friday-prayer-on-aug-4th/
CATEGORIES:Lecture
END:VEVENT
END:VCALENDAR