BEGIN:VCALENDAR
VERSION:2.0
PRODID:-//Noor Collective - San Diego Shia Islamic Center - ECPv5.1.6//NONSGML v1.0//EN
CALSCALE:GREGORIAN
METHOD:PUBLISH
X-WR-CALNAME:Noor Collective - San Diego Shia Islamic Center
X-ORIGINAL-URL:https://noorcollective.org
X-WR-CALDESC:Events for Noor Collective - San Diego Shia Islamic Center
BEGIN:VTIMEZONE
TZID:America/Los_Angeles
BEGIN:DAYLIGHT
TZOFFSETFROM:-0800
TZOFFSETTO:-0700
TZNAME:PDT
DTSTART:20230312T100000
END:DAYLIGHT
BEGIN:STANDARD
TZOFFSETFROM:-0700
TZOFFSETTO:-0800
TZNAME:PST
DTSTART:20231105T090000
END:STANDARD
END:VTIMEZONE
BEGIN:VEVENT
DTSTART;TZID=America/Los_Angeles:20230804T130000
DTEND;TZID=America/Los_Angeles:20230804T143000
DTSTAMP:20260425T115418
CREATED:20230804T005232Z
LAST-MODIFIED:20230804T005346Z
UID:3635-1691154000-1691159400@noorcollective.org
SUMMARY:No Friday Prayer [on Aug 4th]
DESCRIPTION:Salam\, unfortunately\, we will NOT be holding Jummah prayers this Friday.
URL:https://noorcollective.org/event/no-friday-prayer-on-aug-4th/
CATEGORIES:Lecture
END:VEVENT
BEGIN:VEVENT
DTSTART;TZID=America/Los_Angeles:20230811T130000
DTEND;TZID=America/Los_Angeles:20230811T140000
DTSTAMP:20260425T115418
CREATED:20230811T065057Z
LAST-MODIFIED:20230811T065114Z
UID:3648-1691758800-1691762400@noorcollective.org
SUMMARY:No Friday Prayer [on Aug 11th]
DESCRIPTION:There will be No Friday Prayer [on Aug 11th]
URL:https://noorcollective.org/event/no-friday-prayer-on-aug-11th/
END:VEVENT
BEGIN:VEVENT
DTSTART;TZID=America/Los_Angeles:20230811T190000
DTEND;TZID=America/Los_Angeles:20230811T190000
DTSTAMP:20260425T115418
CREATED:20230811T065216Z
LAST-MODIFIED:20230811T065216Z
UID:3650-1691780400-1691780400@noorcollective.org
SUMMARY:'Meet the Community' Hangout Event
DESCRIPTION:FRIDAY NIGHT PROGRAM: Please join us later today [Friday August 11th] at 6:45pm as we read duas together as a community and get to know one another on a deeper level\, followed by prayers and breaking bread together. \nThe program will be held at 7969 ENGINEER RD #110\, SAN DIEGO\, CA 92111 https://goo.gl/maps/i2HTdSVmLKjW25XR8\nStreet parking is preferred but if not available park inside the complex. Do not park with spots that have cones in front of them as those are reserved. \n6:45 pm: Doors open\n7:00 pm: Quran & Duas\n7:15 pm-8:00pm Meet The Community Hangout\n8:05 pm Prayers\n8:20 pm: Dinner
URL:https://noorcollective.org/event/meet-the-community-hangout-event/
END:VEVENT
BEGIN:VEVENT
DTSTART;TZID=America/Los_Angeles:20230818T130000
DTEND;TZID=America/Los_Angeles:20230818T140000
DTSTAMP:20260425T115418
CREATED:20230817T062032Z
LAST-MODIFIED:20230817T062032Z
UID:3653-1692363600-1692367200@noorcollective.org
SUMMARY:Jummah Prayer @ 1pm
DESCRIPTION:Join us at 1 pm on Friday as we hold congregational/Jummah prayer. This will be at our location: 7969 ENGINEER RD #110\, SAN DIEGO\, CA 92111 https://goo.gl/maps/i2HTdSVmLKjW25XR8 \nFor our daytime programs\, please DO NOT park in the complex. STREET PARKING ONLY!
URL:https://noorcollective.org/event/jummah-prayer-1pm-3/
END:VEVENT
BEGIN:VEVENT
DTSTART;TZID=America/Los_Angeles:20230818T190000
DTEND;TZID=America/Los_Angeles:20230818T203000
DTSTAMP:20260425T115418
CREATED:20230818T011206Z
LAST-MODIFIED:20230818T013445Z
UID:3657-1692385200-1692390600@noorcollective.org
SUMMARY:The Humble Heart
DESCRIPTION:Join us on Friday at 6:45pm as we discuss what it means to truly be humble and how God will test us in certain situations. This will be at our location: 7969 ENGINEER RD #110\, SAN DIEGO\, CA 92111 https://goo.gl/maps/i2HTdSVmLKjW25XR8 \nStreet parking is preferred but if not available park inside the complex. Do not park with spots that have cones in front of them as those are reserved. \nSchedule:\n6:45pm: Door Opens\n7:00pm: Lecture by Seyed Ali / Q&A\n8:00pm: Prayers\n8:30pm: Dinner
URL:https://noorcollective.org/event/the-humble-heart/
CATEGORIES:Lecture
ATTACH;FMTTYPE=image/png:https://noorcollective.org/wp-content/uploads/YMA_AUG18_2023-1.png
END:VEVENT
BEGIN:VEVENT
DTSTART;TZID=America/Los_Angeles:20230825T190000
DTEND;TZID=America/Los_Angeles:20230825T203000
DTSTAMP:20260425T115418
CREATED:20230823T223538Z
LAST-MODIFIED:20230823T224110Z
UID:3660-1692990000-1692995400@noorcollective.org
SUMMARY:A Deeper Look At Karbala Part 1
DESCRIPTION:Join us this Friday at 6:45 pm as we take a much deeper look at the events of Karbala\, the aftermath\, and how it affects us today. This will be at our location: 7969 ENGINEER RD #110\, SAN DIEGO\, CA 92111 https://goo.gl/maps/i2HTdSVmLKjW25XR8 \nStreet parking is preferred but if not available park inside the complex. Do not park with spots that have cones in front of them as those are reserved. \nSchedule:\n6:45pm: Door Opens\n7:00pm: Lecture by Seyed Ali / Q&A\n8:00pm: Prayers\n8:30pm: Dinner
URL:https://noorcollective.org/event/a-deeper-look-at-karbala-part-1/
CATEGORIES:Lecture
ATTACH;FMTTYPE=image/png:https://noorcollective.org/wp-content/uploads/YMA_AUG25_2023.png
END:VEVENT
BEGIN:VEVENT
DTSTART;TZID=America/Los_Angeles:20230901T130000
DTEND;TZID=America/Los_Angeles:20230901T140000
DTSTAMP:20260425T115418
CREATED:20230901T060147Z
LAST-MODIFIED:20230901T060147Z
UID:3670-1693573200-1693576800@noorcollective.org
SUMMARY:Jummah Prayer @ 1pm
DESCRIPTION:Join us at 1 pm on Friday as we hold congregational/Jummah prayer. This will be at our location: 7969 ENGINEER RD #110\, SAN DIEGO\, CA 92111 https://goo.gl/maps/i2HTdSVmLKjW25XR8 \nFor our daytime programs\, please DO NOT park in the complex. STREET PARKING ONLY!
URL:https://noorcollective.org/event/jummah-prayer-1pm-4/
END:VEVENT
BEGIN:VEVENT
DTSTART;TZID=America/Los_Angeles:20230901T184500
DTEND;TZID=America/Los_Angeles:20230901T210000
DTSTAMP:20260425T115418
CREATED:20230901T041553Z
LAST-MODIFIED:20230901T041553Z
UID:3668-1693593900-1693602000@noorcollective.org
SUMMARY:A Deeper Look At Karbala Part 2
DESCRIPTION:Join us this Friday at 6:45 pm as we continue our deep dive into the events of Karbala\, the aftermath\, and how it affects us today. This will be at our location: 7969 ENGINEER RD #110\, SAN DIEGO\, CA 92111 https://goo.gl/maps/i2HTdSVmLKjW25XR8 \nStreet parking is preferred but if not available park inside the complex. Do not park with spots that have cones in front of them as those are reserved. \nSchedule:\n6:45pm: Door Opens\n7:00pm: Lecture by Seyed Ali / Q&A\n8:00pm: Prayers\n8:30pm: Dinner
URL:https://noorcollective.org/event/a-deeper-look-at-karbala-part-2/
CATEGORIES:Lecture
ATTACH;FMTTYPE=image/jpeg:https://noorcollective.org/wp-content/uploads/Part-2.jpg
END:VEVENT
END:VCALENDAR