BEGIN:VCALENDAR
VERSION:2.0
PRODID:-//Noor Collective - San Diego Shia Islamic Center - ECPv5.1.6//NONSGML v1.0//EN
CALSCALE:GREGORIAN
METHOD:PUBLISH
X-WR-CALNAME:Noor Collective - San Diego Shia Islamic Center
X-ORIGINAL-URL:https://noorcollective.org
X-WR-CALDESC:Events for Noor Collective - San Diego Shia Islamic Center
BEGIN:VTIMEZONE
TZID:America/Los_Angeles
BEGIN:DAYLIGHT
TZOFFSETFROM:-0800
TZOFFSETTO:-0700
TZNAME:PDT
DTSTART:20230312T100000
END:DAYLIGHT
BEGIN:STANDARD
TZOFFSETFROM:-0700
TZOFFSETTO:-0800
TZNAME:PST
DTSTART:20231105T090000
END:STANDARD
END:VTIMEZONE
BEGIN:VEVENT
DTSTART;TZID=America/Los_Angeles:20231006T184500
DTEND;TZID=America/Los_Angeles:20231006T210000
DTSTAMP:20260425T090150
CREATED:20230928T172257Z
LAST-MODIFIED:20231006T015119Z
UID:3677-1696617900-1696626000@noorcollective.org
SUMMARY:Istikharah: Superstitious Act or a Gateway to the Divine?
DESCRIPTION:Join us on Friday at 6:45 pm as we go over the hotly debated topic of Istikhara. Is it merely a superstitious act or is it the gateway to the divine?\nThis will be at our location: 7969 ENGINEER RD #110\, SAN DIEGO\, CA 92111 https://goo.gl/maps/i2HTdSVmLKjW25XR8\nStreet parking is preferred but if not available park inside the complex. Do not park with spots that have cones in front of them as those are reserved. \nSchedule:\n6:45pm: Door Opens\n7:00pm: Prayers\n7:20pm: Lecture by Seyed Ali / Q&A\n8:10pm: Dinner
URL:https://noorcollective.org/event/istikharah-superstitious-act-or-a-gateway-to-the-divine/
CATEGORIES:Lecture
ATTACH;FMTTYPE=image/png:https://noorcollective.org/wp-content/uploads/YMA_SEP29_2023.png
END:VEVENT
BEGIN:VEVENT
DTSTART;TZID=America/Los_Angeles:20231006T190000
DTEND;TZID=America/Los_Angeles:20231006T203000
DTSTAMP:20260425T090150
CREATED:20231006T015917Z
LAST-MODIFIED:20231006T015917Z
UID:3686-1696618800-1696624200@noorcollective.org
SUMMARY:No Jummah Prayer this week
DESCRIPTION:There is no Friday prayer this week. That said\, there will be a Friday night program @ 7:00 PM
URL:https://noorcollective.org/event/no-jummah-prayer-this-week/
END:VEVENT
BEGIN:VEVENT
DTSTART;TZID=America/Los_Angeles:20231013T184500
DTEND;TZID=America/Los_Angeles:20231013T203000
DTSTAMP:20260425T090150
CREATED:20231012T221708Z
LAST-MODIFIED:20231012T221723Z
UID:3689-1697222700-1697229000@noorcollective.org
SUMMARY:Increase - Opening the Doors of Rizq
DESCRIPTION:Join us on Friday at 6:45 pm as we go over how to increase the various forms of rizq [sustenance/wealth/etc] in our lives.\nThis will be at our location: 7969 ENGINEER RD #110\, SAN DIEGO\, CA 92111 https://goo.gl/maps/i2HTdSVmLKjW25XR8\nStreet parking is preferred but if not available park inside the complex. Do not park with spots that have cones in front of them as those are reserved. \nSchedule:\n6:45pm: Door Opens\n7:00pm: Prayers\n7:20pm: Lecture by Seyed Ali / Q&A\n8:10pm: Dinner
URL:https://noorcollective.org/event/increase-opening-the-doors-of-rizq/
CATEGORIES:Lecture
ATTACH;FMTTYPE=image/png:https://noorcollective.org/wp-content/uploads/YMA_OCT13_2023-1.png
END:VEVENT
BEGIN:VEVENT
DTSTART;TZID=America/Los_Angeles:20231020T123000
DTEND;TZID=America/Los_Angeles:20231020T133000
DTSTAMP:20260425T090150
CREATED:20231018T185029Z
LAST-MODIFIED:20231018T185029Z
UID:3696-1697805000-1697808600@noorcollective.org
SUMMARY:Jummah Prayer @ 12:30pm
DESCRIPTION:FRIDAY SCHEDULE:\n12:30PM – Jummah Prayers \nJoin us at 12:30 pm on Friday as we hold congregational Friday/Jummah prayers. This will be at our location: 7969 ENGINEER RD #110\, SAN DIEGO\, CA 92111 https://goo.gl/maps/i2HTdSVmLKjW25XR8 \nFor our daytime programs\, Street parking is preferred but if not available park inside the complex. Do not park with spots that have cones in front of them as those are reserved.
URL:https://noorcollective.org/event/jummah-prayer-1230pm/
ATTACH;FMTTYPE=image/png:https://noorcollective.org/wp-content/uploads/Friday-Prayer-1230.png
END:VEVENT
BEGIN:VEVENT
DTSTART;TZID=America/Los_Angeles:20231020T190000
DTEND;TZID=America/Los_Angeles:20231020T203000
DTSTAMP:20260425T090150
CREATED:20231018T184745Z
LAST-MODIFIED:20231018T184745Z
UID:3692-1697828400-1697833800@noorcollective.org
SUMMARY:Social Activism - A Journey Into Divine Pleasure
DESCRIPTION:Join us on Friday at 7:00 pm as we go over how this week’s topic of Social Activism in light of everything that’s going on currently.\nThis will be at our location: 7969 ENGINEER RD #110\, SAN DIEGO\, CA 92111 https://goo.gl/maps/i2HTdSVmLKjW25XR8\nStreet parking is preferred but if not available park inside the complex. Do not park with spots that have cones in front of them as those are reserved. \nSchedule:\n6:45pm: Door Opens\n7:00pm: Prayers\n7:20pm: Lecture by Seyed Ali / Q&A\n8:10pm: Dinner
URL:https://noorcollective.org/event/social-activism-a-journey-into-divine-pleasure/
CATEGORIES:Lecture
ATTACH;FMTTYPE=image/png:https://noorcollective.org/wp-content/uploads/YMA_OCT20_2023.png
END:VEVENT
END:VCALENDAR