BEGIN:VCALENDAR
VERSION:2.0
PRODID:-//Noor Collective - San Diego Shia Islamic Center - ECPv5.1.6//NONSGML v1.0//EN
CALSCALE:GREGORIAN
METHOD:PUBLISH
X-WR-CALNAME:Noor Collective - San Diego Shia Islamic Center
X-ORIGINAL-URL:https://noorcollective.org
X-WR-CALDESC:Events for Noor Collective - San Diego Shia Islamic Center
BEGIN:VTIMEZONE
TZID:America/Los_Angeles
BEGIN:DAYLIGHT
TZOFFSETFROM:-0800
TZOFFSETTO:-0700
TZNAME:PDT
DTSTART:20230312T100000
END:DAYLIGHT
BEGIN:STANDARD
TZOFFSETFROM:-0700
TZOFFSETTO:-0800
TZNAME:PST
DTSTART:20231105T090000
END:STANDARD
END:VTIMEZONE
BEGIN:VEVENT
DTSTART;TZID=America/Los_Angeles:20231110T190000
DTEND;TZID=America/Los_Angeles:20231110T210000
DTSTAMP:20260425T072227
CREATED:20231027T051906Z
LAST-MODIFIED:20231109T141206Z
UID:3700-1699642800-1699650000@noorcollective.org
SUMMARY:5 Quranic Concepts for November 2023
DESCRIPTION:Join us as Seyed Ali goes over Five Key Quranic concepts relevant to all the events going on in this month. \nStreet parking is preferred but if not available park inside the complex. Do not park with spots that have cones in front of them as those are reserved. \nSchedule:\n6:45pm: Door Opens\n7:00pm: Prayers\n7:20pm: Lecture by Seyed Ali / Q&A\n8:10pm: Dinner \nAll events are at our location: 7969 ENGINEER RD #110\, SAN DIEGO\, CA 92111 https://goo.gl/maps/i2HTdSVmLKjW25XR8
URL:https://noorcollective.org/event/the-life-of-imam-hasan-al-askari-a-discussion-circle-on-social-activism/
CATEGORIES:Lecture
ATTACH;FMTTYPE=image/png:https://noorcollective.org/wp-content/uploads/YMA_NOV10_2023-1.png
END:VEVENT
BEGIN:VEVENT
DTSTART;TZID=America/Los_Angeles:20231124T113000
DTEND;TZID=America/Los_Angeles:20231124T140000
DTSTAMP:20260425T072227
CREATED:20231123T204911Z
LAST-MODIFIED:20231123T204943Z
UID:3710-1700825400-1700834400@noorcollective.org
SUMMARY:No Jummah Prayer Friday Nov 24th
DESCRIPTION:Unfortunately\, there will be no Jummah Prayer this Friday November 24th\, although there will be a program at 7:00pm.
URL:https://noorcollective.org/event/no-jummah-prayer-this-friday-nov-24th/
END:VEVENT
BEGIN:VEVENT
DTSTART;TZID=America/Los_Angeles:20231124T190000
DTEND;TZID=America/Los_Angeles:20231124T203000
DTSTAMP:20260425T072227
CREATED:20231123T205156Z
LAST-MODIFIED:20231123T205156Z
UID:3711-1700852400-1700857800@noorcollective.org
SUMMARY:An In-depth Look At Evolution
DESCRIPTION:Join us on Friday at 7:00 pm as we go have an in-depth look at evolution from an Islamic perspective.\nThis will be at our location: 7969 ENGINEER RD #110\, SAN DIEGO\, CA 92111 https://goo.gl/maps/i2HTdSVmLKjW25XR8\nStreet parking is preferred but if not available park inside the complex. Do not park with spots that have cones in front of them as those are reserved. \nSchedule:\n6:45pm: Door Opens\n7:00pm: Prayers\n7:20pm: Lecture by Seyed Ali / Q&A\n8:10pm: Dinner
URL:https://noorcollective.org/event/an-in-depth-look-at-evolution/
CATEGORIES:Lecture
ATTACH;FMTTYPE=image/png:https://noorcollective.org/wp-content/uploads/YMA_NOV24_2023.png
END:VEVENT
BEGIN:VEVENT
DTSTART;TZID=America/Los_Angeles:20231201T190000
DTEND;TZID=America/Los_Angeles:20231201T200000
DTSTAMP:20260425T072227
CREATED:20231129T214218Z
LAST-MODIFIED:20231129T214637Z
UID:3716-1701457200-1701460800@noorcollective.org
SUMMARY:What does God want us to do? A look at Ijtihad and the Marjaiyya!
DESCRIPTION:Join us on Friday at 7:00 pm as we have an in-depth discussion on what God wants us to do\, and how Ijtihad and the Marjaiyya system plays a part.\nThis will be at our location: 7969 ENGINEER RD #110\, SAN DIEGO\, CA 92111 https://goo.gl/maps/i2HTdSVmLKjW25XR8\nStreet parking is preferred but if not available park inside the complex. Do not park with spots that have cones in front of them as those are reserved. \nSchedule:\n6:45pm: Door Opens\n7:00pm: Lecture by Seyed Ali / Q&A\n8:00pm: Dinner
URL:https://noorcollective.org/event/what-does-god-want-us-to-do-a-look-at-ijtihad-and-the-marjaiyya/
CATEGORIES:Lecture
ATTACH;FMTTYPE=image/png:https://noorcollective.org/wp-content/uploads/YMA_DEC1_2023.png
END:VEVENT
END:VCALENDAR