BEGIN:VCALENDAR
VERSION:2.0
PRODID:-//Noor Collective - San Diego Shia Islamic Center - ECPv5.1.6//NONSGML v1.0//EN
CALSCALE:GREGORIAN
METHOD:PUBLISH
X-WR-CALNAME:Noor Collective - San Diego Shia Islamic Center
X-ORIGINAL-URL:https://noorcollective.org
X-WR-CALDESC:Events for Noor Collective - San Diego Shia Islamic Center
BEGIN:VTIMEZONE
TZID:America/Los_Angeles
BEGIN:DAYLIGHT
TZOFFSETFROM:-0800
TZOFFSETTO:-0700
TZNAME:PDT
DTSTART:20240310T100000
END:DAYLIGHT
BEGIN:STANDARD
TZOFFSETFROM:-0700
TZOFFSETTO:-0800
TZNAME:PST
DTSTART:20241103T090000
END:STANDARD
END:VTIMEZONE
BEGIN:VEVENT
DTSTART;TZID=America/Los_Angeles:20240120T120000
DTEND;TZID=America/Los_Angeles:20240120T160000
DTSTAMP:20260425T054902
CREATED:20240105T055054Z
LAST-MODIFIED:20240105T055054Z
UID:3734-1705752000-1705766400@noorcollective.org
SUMMARY:Islamic Inheritance Workshop [Walk away with a completed legal will]
DESCRIPTION:Salam Alaykum\, join us on Saturday January 20th as Seyed Ali Tofigh\, an Islamic scholar and lawyer parses through the Qur’anic inheritance verses and guides us through how our legal system deals with inheritance. Walk away (literally) with a valid California will\, financial power of attorney\, and healthcare directive. \nEach attendee must RSVP separately: https://forms.office.com/r/u5fhmFjE7g \nLocation: 7969 ENGINEER RD #110\, SAN DIEGO\, CA 92111 https://goo.gl/maps/i2HTdSVmLKjW25XR8
URL:https://noorcollective.org/event/islamic-inheritance-workshop-walk-away-with-a-completed-legal-will/
LOCATION:Noor Collective\, 7969 ENGINEER RD #110\, San diego\, CA\, 92111\, United States
CATEGORIES:Workshop
ATTACH;FMTTYPE=image/jpeg:https://noorcollective.org/wp-content/uploads/photo_2024-01-05_10-16-05.jpg
END:VEVENT
BEGIN:VEVENT
DTSTART;TZID=America/Los_Angeles:20240126T190000
DTEND;TZID=America/Los_Angeles:20240126T203000
DTSTAMP:20260425T054902
CREATED:20240124T184107Z
LAST-MODIFIED:20240124T184123Z
UID:3745-1706295600-1706301000@noorcollective.org
SUMMARY:A Celebration of Imam Ali (a)
DESCRIPTION:Join us on Friday at 7:00 pm as we discuss and celebrate the life of Imam Ali(a).\nThis will be at our location: 7969 ENGINEER RD #110\, SAN DIEGO\, CA 92111 https://goo.gl/maps/i2HTdSVmLKjW25XR8\nStreet parking is preferred but if not available park inside the complex. Do not park with spots that have cones in front of them as those are reserved. \nSchedule:\n6:45pm: Door Opens\n7:00pm: Lecture by Seyed Ali / Q&A\n8:00pm: Dinner
URL:https://noorcollective.org/event/a-celebration-of-imam-ali-a/
CATEGORIES:Lecture
END:VEVENT
BEGIN:VEVENT
DTSTART;TZID=America/Los_Angeles:20240201T190000
DTEND;TZID=America/Los_Angeles:20240201T200000
DTSTAMP:20260425T054902
CREATED:20240124T183758Z
LAST-MODIFIED:20240124T183758Z
UID:3741-1706814000-1706817600@noorcollective.org
SUMMARY:Dua Kumayl
DESCRIPTION:Salam Alaykum\, we’re happy to announce that the Noor Collective will be beginning Dua Kumayl programs once a month. These programs will be on the first Thursday of each month. \nWhen:\nThursday Feb 1st @ 7pm
URL:https://noorcollective.org/event/dua-kumayl/
ATTACH;FMTTYPE=image/png:https://noorcollective.org/wp-content/uploads/Dua-Kumayl-copy.png
END:VEVENT
END:VCALENDAR