BEGIN:VCALENDAR
VERSION:2.0
PRODID:-//Noor Collective - San Diego Shia Islamic Center - ECPv5.1.6//NONSGML v1.0//EN
CALSCALE:GREGORIAN
METHOD:PUBLISH
X-WR-CALNAME:Noor Collective - San Diego Shia Islamic Center
X-ORIGINAL-URL:https://noorcollective.org
X-WR-CALDESC:Events for Noor Collective - San Diego Shia Islamic Center
BEGIN:VTIMEZONE
TZID:America/Los_Angeles
BEGIN:DAYLIGHT
TZOFFSETFROM:-0800
TZOFFSETTO:-0700
TZNAME:PDT
DTSTART:20240310T100000
END:DAYLIGHT
BEGIN:STANDARD
TZOFFSETFROM:-0700
TZOFFSETTO:-0800
TZNAME:PST
DTSTART:20241103T090000
END:STANDARD
END:VTIMEZONE
BEGIN:VEVENT
DTSTART;TZID=America/Los_Angeles:20241003T190000
DTEND;TZID=America/Los_Angeles:20241003T203000
DTSTAMP:20260422T144500
CREATED:20241002T060951Z
LAST-MODIFIED:20241002T060951Z
UID:3925-1727982000-1727987400@noorcollective.org
SUMMARY:Duas for Lebanon & Palestine @ 7:00PM
DESCRIPTION:Join us as we pray together\, and do communal duas. \n7:00pm: Prayers\n7:20pm: Dua Kumayl & other Duas\n7:50pm: Short Speech\n8:30pm: Refreshments
URL:https://noorcollective.org/event/duas-for-lebanon-palestine-700pm/
END:VEVENT
BEGIN:VEVENT
DTSTART;TZID=America/Los_Angeles:20241004T124300
DTEND;TZID=America/Los_Angeles:20241004T140000
DTSTAMP:20260422T144500
CREATED:20241002T060859Z
LAST-MODIFIED:20241002T060859Z
UID:3923-1728045780-1728050400@noorcollective.org
SUMMARY:Jummah Prayer @ 12:43PM
DESCRIPTION:12:43PM – JUMMAH PRAYER \nJoin us at 12:43pm on Friday as we hold congregational Friday/Jummah prayers. \nFor our daytime programs\, Street parking is preferred but if not available park inside the complex. Do not park with spots that have cones in front of them as those are reserved. \nAll programs are held at: 7969 ENGINEER RD #110\, SAN DIEGO\, CA 92111 https://goo.gl/maps/i2HTdSVmLKjW25XR8
URL:https://noorcollective.org/event/jummah-prayer-1243pm-2/
END:VEVENT
BEGIN:VEVENT
DTSTART;TZID=America/Los_Angeles:20241004T190000
DTEND;TZID=America/Los_Angeles:20241004T210000
DTSTAMP:20260422T144500
CREATED:20241002T060804Z
LAST-MODIFIED:20241002T060804Z
UID:3921-1728068400-1728075600@noorcollective.org
SUMMARY:A Look At Pain\, Suffering\, and Growth
DESCRIPTION:In light of all the events going on\, we’ll be taking a closer look at pain\, suffering\, and their relationship with growth. \nSchedule:\n7:00pm: Doors open\n7:05pm: Prayers\n7:30pm: Lecture by Seyed Ali Musawi\n8:30pm: Dinner \nAll programs are held at:  7969 ENGINEER RD #110\, SAN DIEGO\, CA 92111 https://goo.gl/maps/i2HTdSVmLKjW25XR8
URL:https://noorcollective.org/event/a-look-at-pain-suffering-and-growth/
CATEGORIES:Lecture
END:VEVENT
BEGIN:VEVENT
DTSTART;TZID=America/Los_Angeles:20241011T124000
DTEND;TZID=America/Los_Angeles:20241011T133000
DTSTAMP:20260422T144500
CREATED:20241010T235108Z
LAST-MODIFIED:20241010T235351Z
UID:3932-1728650400-1728653400@noorcollective.org
SUMMARY:Jummah Prayer @ 12:40PM
DESCRIPTION:12:40PM – JUMMAH PRAYER \nJoin us at 12:40pm on Friday as we hold congregational Friday/Jummah prayers. \nFor our daytime programs\, Street parking is preferred but if not available park inside the complex. Do not park with spots that have cones in front of them as those are reserved. \nAll programs are held at: 7969 ENGINEER RD #110\, SAN DIEGO\, CA 92111 https://goo.gl/maps/i2HTdSVmLKjW25XR8
URL:https://noorcollective.org/event/jummah-prayer-1240pm/
LOCATION:Noor Collective\, 7969 ENGINEER RD #110\, San diego\, CA\, 92111\, United States
END:VEVENT
BEGIN:VEVENT
DTSTART;TZID=America/Los_Angeles:20241011T190000
DTEND;TZID=America/Los_Angeles:20241011T203000
DTSTAMP:20260422T144500
CREATED:20241010T235550Z
LAST-MODIFIED:20241010T235653Z
UID:3928-1728673200-1728678600@noorcollective.org
SUMMARY:Hijab Part 2 (of 3)
DESCRIPTION:Join us this Friday as we go over hijab\, what it means\, and why it’s important in Islam. \nSchedule:\n7:00pm: Doors open\n7:05pm: Prayers\n7:25pm: Lecture by Seyed Ali Musawi\n8:30pm: Dinner \nAll programs are held at:  7969 ENGINEER RD #110\, SAN DIEGO\, CA 92111 https://goo.gl/maps/i2HTdSVmLKjW25XR8
URL:https://noorcollective.org/event/hijab-part-2-of-3/
CATEGORIES:Lecture
ATTACH;FMTTYPE=image/jpeg:https://noorcollective.org/wp-content/uploads/photo_2024-10-09_17-25-11.jpg
END:VEVENT
BEGIN:VEVENT
DTSTART;TZID=America/Los_Angeles:20241012T110000
DTEND;TZID=America/Los_Angeles:20241012T110000
DTSTAMP:20260422T144500
CREATED:20241011T000350Z
LAST-MODIFIED:20241011T000350Z
UID:3933-1728730800-1728730800@noorcollective.org
SUMMARY:The 1st Ever Masjid Offroading Event! [Limited Spots Available]
DESCRIPTION:The ‘1st EVER Masjid Offroading Event In Human History’ will be this Saturday Oct 12th @ 11am . \nThe sign up sheet is available on our Telegram/WhatsApp groups. Only 8 spots remaining. \nDrinks and BBQ’d chicken will be provided at the top of the mountain! \nNote: If you are extremely prone to motion sickness or any other condition that can adversely affect your experience\, we recommend skipping out on this event..
URL:https://noorcollective.org/event/the-1st-ever-masjid-offroading-event-limited-spots-available/
END:VEVENT
BEGIN:VEVENT
DTSTART;TZID=America/Los_Angeles:20241018T123500
DTEND;TZID=America/Los_Angeles:20241018T140000
DTSTAMP:20260422T144500
CREATED:20241017T231141Z
LAST-MODIFIED:20241017T231146Z
UID:3942-1729254900-1729260000@noorcollective.org
SUMMARY:Jummah Prayer @ 12:35pm
DESCRIPTION:FRIDAY- Jummah Prayer @ 12:35pm\nSchedule:\n12:30 Doors open\n12:35 pm: Jummah Prayer
URL:https://noorcollective.org/event/jummah-prayer-1235pm/
END:VEVENT
BEGIN:VEVENT
DTSTART;TZID=America/Los_Angeles:20241018T190000
DTEND;TZID=America/Los_Angeles:20241018T210000
DTSTAMP:20260422T144500
CREATED:20241017T231103Z
LAST-MODIFIED:20241017T231103Z
UID:3941-1729278000-1729285200@noorcollective.org
SUMMARY:Hijab Part 3 (Final) + Jeopardy
DESCRIPTION:FRIDAY- Hijab Part 3 @ 7:00PM\nSchedule:\n7:00pm: Doors open\n7:05pm: Isha Prayers\n7:30pm: Lecture\n8:10pm: Discussion Circle\n8:30pm: Short Jeopardy Game\n8:45pm: Dinner \nAll NC Program at: 7969 ENGINEER RD #110\, SAN DIEGO\, CA 92111 https://goo.gl/maps/i2HTdSVmLKjW25XR8
URL:https://noorcollective.org/event/hijab-part-3-final-jeopardy/
CATEGORIES:Lecture
END:VEVENT
BEGIN:VEVENT
DTSTART;TZID=America/Los_Angeles:20241024T080000
DTEND;TZID=America/Los_Angeles:20241024T170000
DTSTAMP:20260422T144500
CREATED:20241024T195450Z
LAST-MODIFIED:20241024T195450Z
UID:3950-1729756800-1729789200@noorcollective.org
SUMMARY:An Inside Look At the Islamic Seminary (Hawza)
DESCRIPTION:In this week’s discussion\, Seyed Ali will be discussing the ins and outs of the Islamic Seminary (Hawza). \nSchedule:\n7:00pm: Doors open\n7:05pm: Isha Prayer\n7:15pm: Lecture\n8:15pm: Dinner \nAll NC Program at: 7969 ENGINEER RD #110\, SAN DIEGO\, CA 92111 https://goo.gl/maps/i2HTdSVmLKjW25XR8
URL:https://noorcollective.org/event/an-inside-look-at-the-islamic-seminary-hawza/
CATEGORIES:Lecture
END:VEVENT
BEGIN:VEVENT
DTSTART;TZID=America/Los_Angeles:20241025T123000
DTEND;TZID=America/Los_Angeles:20241025T133000
DTSTAMP:20260422T144500
CREATED:20241024T195203Z
LAST-MODIFIED:20241024T195203Z
UID:3947-1729859400-1729863000@noorcollective.org
SUMMARY:Jummah Prayer @ 12:35pm
DESCRIPTION:FRIDAY- Jummah Prayer @ 12:35pm\nSchedule:\n12:30 Doors open\n12:35 pm: Jummah Prayer
URL:https://noorcollective.org/event/jummah-prayer-1235pm-2/
END:VEVENT
BEGIN:VEVENT
DTSTART;TZID=America/Los_Angeles:20241101T123500
DTEND;TZID=America/Los_Angeles:20241101T133000
DTSTAMP:20260422T144500
CREATED:20241030T235506Z
LAST-MODIFIED:20241030T235506Z
UID:3956-1730464500-1730467800@noorcollective.org
SUMMARY:Jummah Prayer @ 12:35pm
DESCRIPTION:Join us on Friday for Jummah Prayer @ 12:35pm\nSchedule:\n12:30 Doors open\n12:35 pm: Jummah Prayer \n  \nAll NC Program at: 7969 ENGINEER RD #110\, SAN DIEGO\, CA 92111 https://goo.gl/maps/i2HTdSVmLKjW25XR8
URL:https://noorcollective.org/event/jummah-prayer-1235pm-3/
END:VEVENT
BEGIN:VEVENT
DTSTART;TZID=America/Los_Angeles:20241101T190000
DTEND;TZID=America/Los_Angeles:20241101T203000
DTSTAMP:20260422T144500
CREATED:20241030T235332Z
LAST-MODIFIED:20241030T235332Z
UID:3952-1730487600-1730493000@noorcollective.org
SUMMARY:Voting is HARAM/BIDAH/SHIRK
DESCRIPTION:In this week’s discussion\, Seyed Ali will be discussing the upcoming election\, and what you need to know about voting in Islam. \nSchedule:\n7:00pm: Doors open\n7:05pm: Isha Prayer\n7:15pm: Lecture\n8:15pm: Dinner \nAll NC Program at: 7969 ENGINEER RD #110\, SAN DIEGO\, CA 92111 https://goo.gl/maps/i2HTdSVmLKjW25XR8
URL:https://noorcollective.org/event/voting-is-haram-bidah-shirk/
CATEGORIES:Lecture
ATTACH;FMTTYPE=image/png:https://noorcollective.org/wp-content/uploads/YMA_NOV1_2024.png
END:VEVENT
END:VCALENDAR