BEGIN:VCALENDAR
VERSION:2.0
PRODID:-//Noor Collective - San Diego Shia Islamic Center - ECPv5.1.6//NONSGML v1.0//EN
CALSCALE:GREGORIAN
METHOD:PUBLISH
X-WR-CALNAME:Noor Collective - San Diego Shia Islamic Center
X-ORIGINAL-URL:https://noorcollective.org
X-WR-CALDESC:Events for Noor Collective - San Diego Shia Islamic Center
BEGIN:VTIMEZONE
TZID:America/Los_Angeles
BEGIN:DAYLIGHT
TZOFFSETFROM:-0800
TZOFFSETTO:-0700
TZNAME:PDT
DTSTART:20240310T100000
END:DAYLIGHT
BEGIN:STANDARD
TZOFFSETFROM:-0700
TZOFFSETTO:-0800
TZNAME:PST
DTSTART:20241103T090000
END:STANDARD
END:VTIMEZONE
BEGIN:VEVENT
DTSTART;TZID=America/Los_Angeles:20241205T190000
DTEND;TZID=America/Los_Angeles:20241205T190000
DTSTAMP:20260422T142959
CREATED:20241205T015715Z
LAST-MODIFIED:20241205T015715Z
UID:3975-1733425200-1733425200@noorcollective.org
SUMMARY:Dua Kumayl @ 7:00PM
DESCRIPTION:Join us this Thursday for Dua Kumayl. \n7:00pm: Isha Prayer\n7:10pm : Short Speech by Seyed Ali\n7:25pm: Dua Kumayl \n\nAddress: 7969 ENGINEER RD #110\, SAN DIEGO\, CA 92111 https://goo.gl/maps/i2HTdSVmLKjW25XR8
URL:https://noorcollective.org/event/dua-kumayl-700pm-5/
END:VEVENT
BEGIN:VEVENT
DTSTART;TZID=America/Los_Angeles:20241206T113500
DTEND;TZID=America/Los_Angeles:20241206T130000
DTSTAMP:20260422T142959
CREATED:20241205T015812Z
LAST-MODIFIED:20241205T015812Z
UID:3976-1733484900-1733490000@noorcollective.org
SUMMARY:Jummah Prayer @ 11:40am
DESCRIPTION:Join us on Friday for Jummah Prayer @ 11:40am\nSchedule:\n11:35am:  Doors open\n11:40am: Jummah Prayer \n  \nAll NC Program at: 7969 ENGINEER RD #110\, SAN DIEGO\, CA 92111 https://goo.gl/maps/i2HTdSVmLKjW25XR8
URL:https://noorcollective.org/event/jummah-prayer-1140am/
END:VEVENT
BEGIN:VEVENT
DTSTART;TZID=America/Los_Angeles:20241206T190000
DTEND;TZID=America/Los_Angeles:20241206T210000
DTSTAMP:20260422T142959
CREATED:20241205T015909Z
LAST-MODIFIED:20241205T015909Z
UID:3977-1733511600-1733518800@noorcollective.org
SUMMARY:Ayameh Fatimiyah @ 7PM
DESCRIPTION:Ayameh Fatimiyah \nSchedule:\n7:00pm: Doors open\n7:05pm: Isha Prayer\n7:15pm: Lecture by Seyed Ali / Q&A\n8:30pm: Dinner \nAll programs are held at: 7969 ENGINEER RD #110\, SAN DIEGO\, CA 92111 https://goo.gl/maps/i2HTdSVmLKjW25XR8
URL:https://noorcollective.org/event/ayameh-fatimiyah-7pm/
CATEGORIES:Lecture
END:VEVENT
BEGIN:VEVENT
DTSTART;TZID=America/Los_Angeles:20241213T190000
DTEND;TZID=America/Los_Angeles:20241213T203000
DTSTAMP:20260422T142959
CREATED:20241212T170143Z
LAST-MODIFIED:20241212T170143Z
UID:3984-1734116400-1734121800@noorcollective.org
SUMMARY:Special Dua Program @ 7:00PM
DESCRIPTION:Special Dua Program on Friday @ 7:00pm\n*Schedule:\n7:00pm: Doors open\n7:05pm: Isha Prayer\n7:15pm: Special duas\n8:15pm: Dinner
URL:https://noorcollective.org/event/special-dua-program-700pm/
END:VEVENT
END:VCALENDAR