BEGIN:VCALENDAR
VERSION:2.0
PRODID:-//Noor Collective - San Diego Shia Islamic Center - ECPv5.1.6//NONSGML v1.0//EN
CALSCALE:GREGORIAN
METHOD:PUBLISH
X-WR-CALNAME:Noor Collective - San Diego Shia Islamic Center
X-ORIGINAL-URL:https://noorcollective.org
X-WR-CALDESC:Events for Noor Collective - San Diego Shia Islamic Center
BEGIN:VTIMEZONE
TZID:America/Los_Angeles
BEGIN:DAYLIGHT
TZOFFSETFROM:-0800
TZOFFSETTO:-0700
TZNAME:PDT
DTSTART:20250309T100000
END:DAYLIGHT
BEGIN:STANDARD
TZOFFSETFROM:-0700
TZOFFSETTO:-0800
TZNAME:PST
DTSTART:20251102T090000
END:STANDARD
END:VTIMEZONE
BEGIN:VEVENT
DTSTART;TZID=America/Los_Angeles:20250131T120000
DTEND;TZID=America/Los_Angeles:20250131T133000
DTSTAMP:20260422T090846
CREATED:20250130T073922Z
LAST-MODIFIED:20250130T073922Z
UID:4011-1738324800-1738330200@noorcollective.org
SUMMARY:Jummah Prayer @ 12:00pm
DESCRIPTION:FRIDAY- Jummah Prayer @ 12:00pm\nSchedule:\n11:55am: Doors open\n12:02pm: Jummah Prayer \nAll programs are held at: 7969 ENGINEER RD #110\, SAN DIEGO\, CA 92111 https://goo.gl/maps/i2HTdSVmLKjW25XR8
URL:https://noorcollective.org/event/jummah-prayer-1200pm-2/
END:VEVENT
BEGIN:VEVENT
DTSTART;TZID=America/Los_Angeles:20250131T190000
DTEND;TZID=America/Los_Angeles:20250131T210000
DTSTAMP:20260422T090846
CREATED:20250130T073747Z
LAST-MODIFIED:20250130T073747Z
UID:4008-1738350000-1738357200@noorcollective.org
SUMMARY:Secrets of the Prophetic Etiquette (& Games With Prizes!)
DESCRIPTION:FRIDAY – Secrets of the Prophetic Etiquette @ 7:00pm\nSchedule:\n7:00pm: Doors open\n7:05pm: Isha Prayer\n7:15pm: Quran\n7:20pm: Lecture by Seyed Ali Musawi / Q&A\n8:00pm: Games with Prizes!\n8:40pm: Dinner
URL:https://noorcollective.org/event/secrets-of-the-prophetic-etiquette-games-with-prizes/
CATEGORIES:Lecture
ATTACH;FMTTYPE=image/jpeg:https://noorcollective.org/wp-content/uploads/photo_2025-01-30_01-34-32.jpg
END:VEVENT
BEGIN:VEVENT
DTSTART;TZID=America/Los_Angeles:20250207T120000
DTEND;TZID=America/Los_Angeles:20250207T130000
DTSTAMP:20260422T090846
CREATED:20250207T140310Z
LAST-MODIFIED:20250207T140404Z
UID:4015-1738929600-1738933200@noorcollective.org
SUMMARY:Jummah Prayer @ 12:03pm
DESCRIPTION:FRIDAY- Jummah Prayer @ 12:03pm\nSchedule:\n12:00pm: Doors open\n12:03pm: Jummah Prayer \nAll programs are held at: 7969 ENGINEER RD #110\, SAN DIEGO\, CA 92111 https://goo.gl/maps/i2HTdSVmLKjW25XR8
URL:https://noorcollective.org/event/jummah-prayer-1203pm/
END:VEVENT
BEGIN:VEVENT
DTSTART;TZID=America/Los_Angeles:20250207T190000
DTEND;TZID=America/Los_Angeles:20250207T203000
DTSTAMP:20260422T090846
CREATED:20250207T140539Z
LAST-MODIFIED:20250207T140539Z
UID:4016-1738954800-1738960200@noorcollective.org
SUMMARY:Noor Collective Town Hall
DESCRIPTION:Come join us as we go over the vision and goals of the Noor Collective\, and how you can help! \nSchedule:\n7:00pm: Isha Prayer\n7:15pm: Townhall Presentation & Discussion on the Future of Noor Collective.\n8:30pm: Dinner \nThese programs are held at: 7969 ENGINEER RD #110\, SAN DIEGO\, CA 92111 https://goo.gl/maps/i2HTdSVmLKjW25XR8
URL:https://noorcollective.org/event/noor-collective-town-hall/
CATEGORIES:Townhall
END:VEVENT
BEGIN:VEVENT
DTSTART;TZID=America/Los_Angeles:20250213T180000
DTEND;TZID=America/Los_Angeles:20250213T210000
DTSTAMP:20260422T090846
CREATED:20250211T162747Z
LAST-MODIFIED:20250211T162747Z
UID:4024-1739469600-1739480400@noorcollective.org
SUMMARY:Amaal of 15th of Shabaan @ 6:00pm
DESCRIPTION:Special Community Program Thursday @ 6:00pm\nAmaal of 15th of Shabaan (led by Brother Ali) \nSchedule:\n6:00pm: Prayers\n6:20pm: Iftar\n7:00-9:00pm: Duas & Ziyarat & other Amaal
URL:https://noorcollective.org/event/amaal-of-15th-of-shabaan-600pm/
END:VEVENT
BEGIN:VEVENT
DTSTART;TZID=America/Los_Angeles:20250214T120000
DTEND;TZID=America/Los_Angeles:20250214T130000
DTSTAMP:20260422T090846
CREATED:20250211T164030Z
LAST-MODIFIED:20250211T164042Z
UID:4026-1739534400-1739538000@noorcollective.org
SUMMARY:Jummah Prayer @ 12:03pm
DESCRIPTION:FRIDAY- Jummah Prayer @ 12:03pm\nSchedule:\n12:00pm: Doors open\n12:03pm: Jummah Prayer \nAll programs are held at: 7969 ENGINEER RD #110\, SAN DIEGO\, CA 92111 https://goo.gl/maps/i2HTdSVmLKjW25XR8
URL:https://noorcollective.org/event/jummah-prayer-1203pm-2/
END:VEVENT
BEGIN:VEVENT
DTSTART;TZID=America/Los_Angeles:20250214T190000
DTEND;TZID=America/Los_Angeles:20250214T213000
DTSTAMP:20260422T090846
CREATED:20250211T164227Z
LAST-MODIFIED:20250211T164227Z
UID:4029-1739559600-1739568600@noorcollective.org
SUMMARY:Can the Rules of Islam Ever Change?
DESCRIPTION:Join us as Seyed Ali gives us an indepth look into how Fiqh works in a constantly changing world. \nSchedule: \n7:00pm: Isha Prayers \n7:15pm: Quran \n7:25pm: Lecture / Q&A \n8:30pm: Dinner
URL:https://noorcollective.org/event/can-the-rules-of-islam-ever-change/
CATEGORIES:Lecture
END:VEVENT
BEGIN:VEVENT
DTSTART;TZID=America/Los_Angeles:20250216T103000
DTEND;TZID=America/Los_Angeles:20250216T163000
DTSTAMP:20260422T090846
CREATED:20250209T234348Z
LAST-MODIFIED:20250211T164541Z
UID:4019-1739701800-1739723400@noorcollective.org
SUMMARY:Unity Picnic W/ Sayed Mohammed Alsheera
DESCRIPTION:Join us this Sunday Feb 16th at 10:30am sharp at Mission Bay as we have a special unity picnic with Sayed Mohammed Alsheera & Seyed Ali Musawi. The event will be held at Mission Bay with a location pin being sent the day of the event.  This picnic is a collaboration between 5 centers to celebrate the wiladat of Imam Mahdi (ajtfs). \n  \nSchedule:\n10:30am: Talk/Q&A by Sayed Mohammed Alsheera & Seyed Ali Musawi\n\n12:00pm: Prayers \n12:30pm: Potluck Lunch / Picnic \n1:00-4:00pm: Sports\, games & other fun activities\n\nSign up for the potluck here: https://docs.google.com/document/d/1vtMARNurQiSEM4LVvPAwj1f6lvs1R3jP83K13e_Tm-8/edit?usp=sharing \n  \nWe’d like to request that people interested in the program with Hajj Hassanain Rajabali show up on time at 10:30am\, as he will need to leave promptly after prayers. 
URL:https://noorcollective.org/event/unity-picnic-w-hajj-hassanain-rajabli/
ATTACH;FMTTYPE=image/jpeg:https://noorcollective.org/wp-content/uploads/WhatsApp-Image-2025-02-05-at-19.48.07_0e44d28e.jpg
END:VEVENT
BEGIN:VEVENT
DTSTART;TZID=America/Los_Angeles:20250221T120000
DTEND;TZID=America/Los_Angeles:20250221T130000
DTSTAMP:20260422T090846
CREATED:20250220T164544Z
LAST-MODIFIED:20250220T164544Z
UID:4038-1740139200-1740142800@noorcollective.org
SUMMARY:Jummah Prayer @ 12:03pm
DESCRIPTION:FRIDAY- Jummah Prayer @ 12:03pm\nSchedule:\n12:00pm: Doors open\n12:03pm: Jummah Prayer \nAll programs are held at: 7969 ENGINEER RD #110\, SAN DIEGO\, CA 92111 https://goo.gl/maps/i2HTdSVmLKjW25XR8
URL:https://noorcollective.org/event/jummah-prayer-1203pm-3/
END:VEVENT
BEGIN:VEVENT
DTSTART;TZID=America/Los_Angeles:20250221T190000
DTEND;TZID=America/Los_Angeles:20250221T210000
DTSTAMP:20260422T090846
CREATED:20250220T164654Z
LAST-MODIFIED:20250220T164704Z
UID:4040-1740164400-1740171600@noorcollective.org
SUMMARY:Preparing for Ramadan
DESCRIPTION:In our final Friday program before Ramadan\, join us as Seyed Ali goes over how we can properly prepare ourselves for the upcoming Holy Month! \n  \nSchedule: \n7:00pm: Isha Prayers \n7:15pm: Quran \n7:25pm: Lecture / Q&A \n8:30pm: Dinner
URL:https://noorcollective.org/event/preparing-for-ramadan-2/
CATEGORIES:Lecture
END:VEVENT
BEGIN:VEVENT
DTSTART;TZID=America/Los_Angeles:20250228T190000
DTEND;TZID=America/Los_Angeles:20250228T203000
DTSTAMP:20260422T090846
CREATED:20250227T210348Z
LAST-MODIFIED:20250227T212710Z
UID:4045-1740769200-1740774600@noorcollective.org
SUMMARY:Friday Night Program with Shaykh Mahdi Mohammadpour @7:00pm
DESCRIPTION:Schedule:\n7:00pm: Isha Prayer\n7:10pm: Quran\n7:15pm: Lecture / Q&A\n8:30pm: Dinner
URL:https://noorcollective.org/event/friday-night-program-with-shaykh-mahdi-mommadpour-700pm/
CATEGORIES:Lecture
END:VEVENT
END:VCALENDAR