BEGIN:VCALENDAR
VERSION:2.0
PRODID:-//Noor Collective - San Diego Shia Islamic Center - ECPv5.1.6//NONSGML v1.0//EN
CALSCALE:GREGORIAN
METHOD:PUBLISH
X-WR-CALNAME:Noor Collective - San Diego Shia Islamic Center
X-ORIGINAL-URL:https://noorcollective.org
X-WR-CALDESC:Events for Noor Collective - San Diego Shia Islamic Center
BEGIN:VTIMEZONE
TZID:America/Los_Angeles
BEGIN:DAYLIGHT
TZOFFSETFROM:-0800
TZOFFSETTO:-0700
TZNAME:PDT
DTSTART:20250309T100000
END:DAYLIGHT
BEGIN:STANDARD
TZOFFSETFROM:-0700
TZOFFSETTO:-0800
TZNAME:PST
DTSTART:20251102T090000
END:STANDARD
END:VTIMEZONE
BEGIN:VEVENT
DTSTART;TZID=America/Los_Angeles:20250404T125200
DTEND;TZID=America/Los_Angeles:20250404T140000
DTSTAMP:20260422T060951
CREATED:20250403T191512Z
LAST-MODIFIED:20250403T191512Z
UID:4058-1743771120-1743775200@noorcollective.org
SUMMARY:Jummah Prayer @ 12:52pm
DESCRIPTION:FRIDAY- Jummah Prayer @ 12:52pm\nSchedule:\n12:52pm: Adhaan \n12:55pm: Jummah Begins \nAll programs are held at: 7969 ENGINEER RD #110\, SAN DIEGO\, CA 92111 https://goo.gl/maps/i2HTdSVmLKjW25XR8
URL:https://noorcollective.org/event/jummah-prayer-1252pm/
END:VEVENT
BEGIN:VEVENT
DTSTART;TZID=America/Los_Angeles:20250411T125000
DTEND;TZID=America/Los_Angeles:20250411T140000
DTSTAMP:20260422T060951
CREATED:20250409T000649Z
LAST-MODIFIED:20250409T000649Z
UID:4063-1744375800-1744380000@noorcollective.org
SUMMARY:Jummah Prayer @ 12:50pm
DESCRIPTION:FRIDAY- Jummah Prayer @ 12:50pm\nSchedule:\n12:50pm: Adhaan \n12:52pm: Jummah Begins \nAll programs are held at: 7969 ENGINEER RD #110\, SAN DIEGO\, CA 92111 https://goo.gl/maps/i2HTdSVmLKjW25XR8
URL:https://noorcollective.org/event/jummah-prayer-1250pm-6/
END:VEVENT
BEGIN:VEVENT
DTSTART;TZID=America/Los_Angeles:20250411T193000
DTEND;TZID=America/Los_Angeles:20250411T213000
DTSTAMP:20260422T060951
CREATED:20250409T000711Z
LAST-MODIFIED:20250409T000720Z
UID:4065-1744399800-1744407000@noorcollective.org
SUMMARY:Why am i Shia?
DESCRIPTION:Fri\, Apr 11th @7:30pm\nWhy Am I Shia?\nSchedule:\n7:30pm: Prayers\n7:50pm: Quran\n8:00pm: Lecture\n9:00pm: Dinner \n 
URL:https://noorcollective.org/event/why-am-i-shia/
CATEGORIES:Lecture
END:VEVENT
BEGIN:VEVENT
DTSTART;TZID=America/Los_Angeles:20250412T110000
DTEND;TZID=America/Los_Angeles:20250412T180000
DTSTAMP:20260422T060951
CREATED:20250314T144222Z
LAST-MODIFIED:20250314T150250Z
UID:4050-1744455600-1744480800@noorcollective.org
SUMMARY:Mizan Course: The Mahdi - From Birth to Occultation (Part 1)
DESCRIPTION:📢 Mizan Course on The Mahdi: Birth to Occultation (Part 1)\n🎙 By Shaykh Mahdi Rastani\n📅 Saturday\, April 12 | 11:00 AM – 6:00 PM\n📍 Noor Collective \nOn this blessed Friday\, we are thrilled to announce the first-ever Mizan course in San Diego! At a time when confusion and uncertainty are widespread\, understanding the role of Imam Mahdi (ajtf) is more crucial than ever. \nJoin Shaykh Mahdi Rastani\, one of the most renowned and respected speakers in the Shia world\, for an interactive deep dive into our Shia beliefs about the Imam of our time—covering everything from his birth to his occultation\, and what this means for us today. \n🔗 Sign up today: https://mizaninstitute.org/noorcollective/ \nThis is a rare opportunity to strengthen your knowledge\, connect with like-minded believers\, and prepare for the Imam’s return. Seats are limited—register now before it’s too late!\n💰 Course Price: $30 (includes materials\, lunch & refreshments)\n🤝 Register now\, and if cost is a barrier\, reach out—no one will be turned away.
URL:https://noorcollective.org/event/mizan-course-the-mahdi-from-birth-to-occultation-part-1/
CATEGORIES:Lecture
ATTACH;FMTTYPE=image/jpeg:https://noorcollective.org/wp-content/uploads/WhatsApp-Image-2025-03-09-at-15.55.20_5e8adb98.jpg
END:VEVENT
BEGIN:VEVENT
DTSTART;TZID=America/Los_Angeles:20250425T124700
DTEND;TZID=America/Los_Angeles:20250425T140000
DTSTAMP:20260422T060951
CREATED:20250423T141737Z
LAST-MODIFIED:20250425T143613Z
UID:4069-1745585220-1745589600@noorcollective.org
SUMMARY:Jummah Prayer @ 12:47pm CANCELED
DESCRIPTION:Jummah Prayer this week has been canceled due to unforeseen circumstances. Our Friday night program is still happening and will begin at 7:30pm
URL:https://noorcollective.org/event/jummah-prayer-1247pm/
END:VEVENT
BEGIN:VEVENT
DTSTART;TZID=America/Los_Angeles:20250425T193000
DTEND;TZID=America/Los_Angeles:20250425T213000
DTSTAMP:20260422T060951
CREATED:20250423T142039Z
LAST-MODIFIED:20250423T142154Z
UID:4072-1745609400-1745616600@noorcollective.org
SUMMARY:The Martyrdom of Imam Sadiq (as)
DESCRIPTION:Join us this week as we commemorate the Martyrdom of Imam Sadiq (as). Program will begin with Maghrib. \n7:30pm: Prayers \n8:00pm: Quran\n8:10pm: Lecture\n9:00pm: Dinner
URL:https://noorcollective.org/event/the-martyrdom-of-imam-sadiq-as/
CATEGORIES:Lecture
END:VEVENT
BEGIN:VEVENT
DTSTART;TZID=America/Los_Angeles:20250501T193000
DTEND;TZID=America/Los_Angeles:20250501T213000
DTSTAMP:20260422T060951
CREATED:20250430T000606Z
LAST-MODIFIED:20250430T000606Z
UID:4076-1746127800-1746135000@noorcollective.org
SUMMARY:Dua Kumayl @ 7:30PM
DESCRIPTION:Join us this Thursday for Dua Kumayl. \n7:30pm: Prayer\n8:00pm : Short Speech by Seyed Ali\n8:20pm: Dua Kumayl\n9:00pm: Dinner \n\nAddress: 7969 ENGINEER RD #110\, SAN DIEGO\, CA 92111 https://goo.gl/maps/i2HTdSVmLKjW25XR8
URL:https://noorcollective.org/event/dua-kumayl-730pm/
END:VEVENT
BEGIN:VEVENT
DTSTART;TZID=America/Los_Angeles:20250502T124500
DTEND;TZID=America/Los_Angeles:20250502T140000
DTSTAMP:20260422T060951
CREATED:20250430T000908Z
LAST-MODIFIED:20250430T000908Z
UID:4078-1746189900-1746194400@noorcollective.org
SUMMARY:Jummah Prayer @ 12:45pm
DESCRIPTION:FRIDAY- Jummah Prayer @ 12:45pm\nSchedule:\n12:45pm: Adhaan \n12:50pm: Jummah Begins \nAll programs are held at: 7969 ENGINEER RD #110\, SAN DIEGO\, CA 92111 https://goo.gl/maps/i2HTdSVmLKjW25XR8
URL:https://noorcollective.org/event/jummah-prayer-1245pm-5/
END:VEVENT
BEGIN:VEVENT
DTSTART;TZID=America/Los_Angeles:20250502T193000
DTEND;TZID=America/Los_Angeles:20250502T213000
DTSTAMP:20260422T060951
CREATED:20250430T000727Z
LAST-MODIFIED:20250430T001339Z
UID:4080-1746214200-1746221400@noorcollective.org
SUMMARY:A Journey into the World of Wahhabism
DESCRIPTION:Join us as we do a deep dive into the world of Wahabism\, its origins\, and what it means for us today. \nSchedule: \n7:30pm Prayer \n8:00pm Speech / Q&A \n9:00pm Diner
URL:https://noorcollective.org/event/a-journey-into-the-world-of-wahhabism/
CATEGORIES:Lecture
END:VEVENT
END:VCALENDAR