BEGIN:VCALENDAR
VERSION:2.0
PRODID:-//Noor Collective - San Diego Shia Islamic Center - ECPv5.1.6//NONSGML v1.0//EN
CALSCALE:GREGORIAN
METHOD:PUBLISH
X-WR-CALNAME:Noor Collective - San Diego Shia Islamic Center
X-ORIGINAL-URL:https://noorcollective.org
X-WR-CALDESC:Events for Noor Collective - San Diego Shia Islamic Center
BEGIN:VTIMEZONE
TZID:America/Los_Angeles
BEGIN:DAYLIGHT
TZOFFSETFROM:-0800
TZOFFSETTO:-0700
TZNAME:PDT
DTSTART:20250309T100000
END:DAYLIGHT
BEGIN:STANDARD
TZOFFSETFROM:-0700
TZOFFSETTO:-0800
TZNAME:PST
DTSTART:20251102T090000
END:STANDARD
END:VTIMEZONE
BEGIN:VEVENT
DTSTART;TZID=America/Los_Angeles:20250530T124500
DTEND;TZID=America/Los_Angeles:20250530T140000
DTSTAMP:20260421T235157
CREATED:20250529T130933Z
LAST-MODIFIED:20250529T130933Z
UID:4088-1748609100-1748613600@noorcollective.org
SUMMARY:Jummah Prayer @ 12:45pm
DESCRIPTION:FRIDAY- Jummah Prayer @ 12:45pm\nSchedule:\n12:45pm: Adhaan \n12:50pm: Jummah Begins \nAll programs are held at: 7969 ENGINEER RD #110\, SAN DIEGO\, CA 92111 https://goo.gl/maps/i2HTdSVmLKjW25XR8
URL:https://noorcollective.org/event/jummah-prayer-1245pm-6/
END:VEVENT
BEGIN:VEVENT
DTSTART;TZID=America/Los_Angeles:20250605T183000
DTEND;TZID=America/Los_Angeles:20250605T203000
DTSTAMP:20260421T235157
CREATED:20250602T112033Z
LAST-MODIFIED:20250602T112033Z
UID:4095-1749148200-1749155400@noorcollective.org
SUMMARY:Dua Arafah Program
DESCRIPTION:🕊 Thursday\, June 5 | 6:30 PM\n*Special Dua Arafah Program* \nSchedule:\n6:30 PM – Recitation of Special Duas\n8:00 PM – Prayers\n8:20 PM – Dinner
URL:https://noorcollective.org/event/dua-arafah-program/
END:VEVENT
BEGIN:VEVENT
DTSTART;TZID=America/Los_Angeles:20250606T073000
DTEND;TZID=America/Los_Angeles:20250606T093000
DTSTAMP:20260421T235157
CREATED:20250602T112128Z
LAST-MODIFIED:20250602T112141Z
UID:4096-1749195000-1749202200@noorcollective.org
SUMMARY:Eid al-Adha Community Prayers @ Hilltop Park
DESCRIPTION:🌙 *Friday\, June 6 | 7:30 AM*\n*Eid al-Adha Prayer & Potluck Breakfast*\n📍 Hilltop Community Park\n9711 Oviedo Way\, San Diego\, CA 92129\nhttps://g.co/kgs/GAQK5PR \n*Schedule:*\n7:30 AM – Dua Nudba\n7:45 AM – Eid Prayers\n8:15 AM – Potluck Breakfast \nHosted by: Noor Collective\, IECSD\, BlueSky\, Khorshid Org
URL:https://noorcollective.org/event/eid-al-adha-community-prayers-hilltop-park/
END:VEVENT
BEGIN:VEVENT
DTSTART;TZID=America/Los_Angeles:20250606T190000
DTEND;TZID=America/Los_Angeles:20250606T210000
DTSTAMP:20260421T235157
CREATED:20250529T131542Z
LAST-MODIFIED:20250602T112204Z
UID:4091-1749236400-1749243600@noorcollective.org
SUMMARY:A Journey Into Muslim Andalusia
DESCRIPTION:Join us as Seyed Ali Musawi takes us back in time into the Muslim Lands of Andalusia (modern day Spain & Portugal)\, what the situation was like in those times\, and what lessons we can gleam from history. \nSchedule: \n7:00pm: Quran\n7:05pm: Lecture / Q&A \n8:00pm: Prayers \n8:20pm: Dinner
URL:https://noorcollective.org/event/a-journey-into-muslim-andalusia/
CATEGORIES:Lecture
ATTACH;FMTTYPE=image/png:https://noorcollective.org/wp-content/uploads/YMA_MAY30_2025-1.png
END:VEVENT
BEGIN:VEVENT
DTSTART;TZID=America/Los_Angeles:20250613T125000
DTEND;TZID=America/Los_Angeles:20250613T140000
DTSTAMP:20260421T235157
CREATED:20250612T230830Z
LAST-MODIFIED:20250612T230830Z
UID:4101-1749819000-1749823200@noorcollective.org
SUMMARY:Jummah Prayer @ 12:50pm
DESCRIPTION:Friday @ 12:50pm – Jummah Prayer\nSchedule:\n12:50pm: Khutbah
URL:https://noorcollective.org/event/jummah-prayer-1250pm-7/
END:VEVENT
BEGIN:VEVENT
DTSTART;TZID=America/Los_Angeles:20250613T190000
DTEND;TZID=America/Los_Angeles:20250613T210000
DTSTAMP:20260421T235157
CREATED:20250612T231010Z
LAST-MODIFIED:20250612T231407Z
UID:4102-1749841200-1749848400@noorcollective.org
SUMMARY:Eid-al Ghadeer Celebration @7:00pm
DESCRIPTION:Friday @7:00pm – Eid-al Ghadeer Celebration\nSchedule:\n7:00 PM – Quran\n7:10 PM – Poetry Competition\n7:30 PM – Short speech by Seyed Ali\n7:50 PM- Short game (w/ prizes!)\n8:15 PM – Prayers\n8:30 PM – Dinner \nSpoken Word/Poetry Competition this Friday\, June 13th in lieu of Eid al-Ghadeer! All ages are welcome to participate. Preferred language is English. You’re welcome to use someone else’s work (please make sure to give them credit)\, or write something yourself (originality gets extra points)!\nYou’ll be judged based on originality\, volume control\, clarity of voice\, enunciation of words\, and overall performance. Keep those in mind when practicing this week
URL:https://noorcollective.org/event/eid-al-ghadeer-celebration/
CATEGORIES:Lecture
END:VEVENT
BEGIN:VEVENT
DTSTART;TZID=America/Los_Angeles:20250615T110000
DTEND;TZID=America/Los_Angeles:20250615T180000
DTSTAMP:20260421T235157
CREATED:20250529T130231Z
LAST-MODIFIED:20250529T130231Z
UID:4086-1749985200-1750010400@noorcollective.org
SUMMARY:Eid-al Ghadeer Community Wide Picnic @ 11am-6pm
DESCRIPTION:🌿 EID AL-GHADEER COMMUNITY POTLUCK PICNIC! 🌿 \n🗓 Sunday\, June 15th\n🕚 11:00 AM – 6:00 PM\n📍 Hilltop Community Park & Rec Center \nWe’re coming together as a community to celebrate Eid al-Ghadeer with a joyful potluck picnic! Bring your favorite dish\, your friends and family\, and let’s make it a beautiful day filled with faith and fun. 💚 \n🎉 Activities include:\n🕌 Jamaat prayers\n🗣 Youth speech by Seyed Ali\n🏰 Bouncy house for kids\n🎲 Games & activities for all ages! \n✅ RSVP here: https://forms.gle/6D62pCfKiBK7SFLq8\n🍽 Potluck sign-up sheet: https://tinyurl.com/5n2p7nj5 \nLet’s celebrate\, share a meal\, and uplift each other on this special occasion! 🌙✨\nHosted by Noor Collective\, IECSD\, Khorshid Non-Profit\, and BlueSky Social & Cultural Community.
URL:https://noorcollective.org/event/eid-al-ghadeer-community-wide-picnic-11am-6pm/
END:VEVENT
BEGIN:VEVENT
DTSTART;TZID=America/Los_Angeles:20250615T110000
DTEND;TZID=America/Los_Angeles:20250615T180000
DTSTAMP:20260421T235157
CREATED:20250612T231307Z
LAST-MODIFIED:20250612T231341Z
UID:4103-1749985200-1750010400@noorcollective.org
SUMMARY:Eid-al Ghadeer Community Wide Picnic @ 11am-6pm
DESCRIPTION:🌿 EID AL-GHADEER COMMUNITY POTLUCK PICNIC! 🌿 \n🗓 Sunday\, June 15th\n🕚 11:00 AM – 6:00 PM\n📍 Hilltop Community Park & Rec Center \nWe’re coming together as a community to celebrate Eid al-Ghadeer with a joyful potluck picnic! Bring your favorite dish\, your friends and family\, and let’s make it a beautiful day filled with faith and fun. 💚 \n🎉 Activities include:\n🕌 Jamaat prayers\n🗣 Youth speech by Seyed Ali\n🏰 Bouncy house for kids\n🎲 Games & activities for all ages! \n✅ RSVP here: https://forms.gle/6D62pCfKiBK7SFLq8\n🍽 Potluck sign-up sheet: https://tinyurl.com/5n2p7nj5 \nLet’s celebrate\, share a meal\, and uplift each other on this special occasion! 🌙✨\nHosted by Noor Collective\, IECSD\, Khorshid Non-Profit\, and BlueSky Social & Cultural Community. \n 
URL:https://noorcollective.org/event/eid-al-ghadeer-community-wide-picnic-11am-6pm-2/
ATTACH;FMTTYPE=image/jpeg:https://noorcollective.org/wp-content/uploads/WhatsApp-Image-2025-05-29-at-16.19.43_caac8709.jpg
END:VEVENT
END:VCALENDAR