BEGIN:VCALENDAR
VERSION:2.0
PRODID:-//Noor Collective - San Diego Shia Islamic Center - ECPv5.1.6//NONSGML v1.0//EN
CALSCALE:GREGORIAN
METHOD:PUBLISH
X-WR-CALNAME:Noor Collective - San Diego Shia Islamic Center
X-ORIGINAL-URL:https://noorcollective.org
X-WR-CALDESC:Events for Noor Collective - San Diego Shia Islamic Center
BEGIN:VTIMEZONE
TZID:America/Los_Angeles
BEGIN:DAYLIGHT
TZOFFSETFROM:-0800
TZOFFSETTO:-0700
TZNAME:PDT
DTSTART:20250309T100000
END:DAYLIGHT
BEGIN:STANDARD
TZOFFSETFROM:-0700
TZOFFSETTO:-0800
TZNAME:PST
DTSTART:20251102T090000
END:STANDARD
END:VTIMEZONE
BEGIN:VEVENT
DTSTART;TZID=America/Los_Angeles:20250912T125000
DTEND;TZID=America/Los_Angeles:20250912T140000
DTSTAMP:20260421T185720
CREATED:20250911T053043Z
LAST-MODIFIED:20250911T053043Z
UID:4154-1757681400-1757685600@noorcollective.org
SUMMARY:Jummah Prayer @ 12:50pm
DESCRIPTION:🕌 Friday – Jummah Prayer @ 12:50pm \n🕛 12:50 PM – Khutbah Begins
URL:https://noorcollective.org/event/jummah-prayer-1250pm-8/
END:VEVENT
BEGIN:VEVENT
DTSTART;TZID=America/Los_Angeles:20250912T193000
DTEND;TZID=America/Los_Angeles:20250912T213000
DTSTAMP:20260421T185720
CREATED:20250911T053001Z
LAST-MODIFIED:20250911T053001Z
UID:4153-1757705400-1757712600@noorcollective.org
SUMMARY:Botox\, Liposuction\, and Small Noses- A Look at Plastic Surgery in Islam @ 7:30pm
DESCRIPTION:🌙 Friday Night: Botox\, Liposuction\, and Small Noses- A Look at Plastic Surgery in Islam @ 7:30pm \n🕢 7:20 PM – Doors Open\n🧎 7:30 PM – Prayers\n🎙 7:50 PM – Talk by Seyed Ali + Q&A\n🍽 9:00 PM – Dinner
URL:https://noorcollective.org/event/botox-liposuction-and-small-noses-a-look-at-plastic-surgery-in-islam-730pm/
CATEGORIES:Lecture
END:VEVENT
BEGIN:VEVENT
DTSTART;TZID=America/Los_Angeles:20250919T124500
DTEND;TZID=America/Los_Angeles:20250919T130000
DTSTAMP:20260421T185720
CREATED:20250915T204303Z
LAST-MODIFIED:20250924T231226Z
UID:4157-1758285900-1758286800@noorcollective.org
SUMMARY:Jummah Prayers @ 12:45pm
DESCRIPTION:🕌 *Friday – Jummah Prayer @ 12:45 PM*\n🕛 12:50 PM – Khutbah Begins
URL:https://noorcollective.org/event/jummah-1245pm/
END:VEVENT
BEGIN:VEVENT
DTSTART;TZID=America/Los_Angeles:20250919T190000
DTEND;TZID=America/Los_Angeles:20250919T210000
DTSTAMP:20260421T185720
CREATED:20250915T204412Z
LAST-MODIFIED:20250915T204412Z
UID:4158-1758308400-1758315600@noorcollective.org
SUMMARY:Special Program With Sayed Abazar Wahedi @ 7:00pm
DESCRIPTION:🌙 Friday Night: Special Program with Seyed Abazar Wahedi @ 7:00 PM\n🕢 7:00 PM – Doors Open\n🧎 7:10 PM – Prayers\n🎙 7:30 PM – Talk by Seyed Abazar + Q&A\n🍽 8:45 PM – Dinner \nAbout the Guest Scholar:\nSeyed Abazar Wahedi studied in Qom for over 12 years and is an award-winning Qur’an reciter. He is the Resident ʿĀlim at the Islamic Center of Fatimiyyah in Hayward\, CA\, known for his youth engagement and heartfelt recitations. \n📍 Location: 7969 Engineer Rd #110\, San Diego\, CA\n🔗 https://goo.gl/maps/i2HTdSVmLKjW25XR8
URL:https://noorcollective.org/event/special-program-with-sayed-abazar-wahedi-700pm/
CATEGORIES:Lecture
ATTACH;FMTTYPE=image/png:https://noorcollective.org/wp-content/uploads/YMA_SEP19_2025-1.png
END:VEVENT
BEGIN:VEVENT
DTSTART;TZID=America/Los_Angeles:20250920T120000
DTEND;TZID=America/Los_Angeles:20250920T160000
DTSTAMP:20260421T185720
CREATED:20250915T204528Z
LAST-MODIFIED:20250915T204528Z
UID:4159-1758369600-1758384000@noorcollective.org
SUMMARY:Potluck Picnic with Sayed Abazar Wahedi & Seyed Ali Musawi @12:00PM
DESCRIPTION:🥙 Saturday – Community Picnic with Seyed Abazar & Seyed Ali @ 12:00 PM\n📅 Bring family & friends for food\, reflections\, and good times!\n📍 Location: Mission Bay. The exact location will be sent via Telegram & WhatsApp 30 minutes before the potluck. \n 
URL:https://noorcollective.org/event/potluck-picnic-with-sayed-abazar-wahedi-seyed-ali-musawi-1200pm/
CATEGORIES:Lecture
ATTACH;FMTTYPE=image/jpeg:https://noorcollective.org/wp-content/uploads/photo_2025-09-09_20-24-00.jpg
END:VEVENT
BEGIN:VEVENT
DTSTART;TZID=America/Los_Angeles:20250926T124500
DTEND;TZID=America/Los_Angeles:20250926T140000
DTSTAMP:20260421T185720
CREATED:20250924T231151Z
LAST-MODIFIED:20250924T231707Z
UID:4170-1758890700-1758895200@noorcollective.org
SUMMARY:Jummah Prayers @ 12:50pm
DESCRIPTION:🕌 *Friday – Jummah Prayer @ 12:45 PM*\n🕛 12:50 PM – Khutbah Begins
URL:https://noorcollective.org/event/jummah-prayers-1245pm/
END:VEVENT
BEGIN:VEVENT
DTSTART;TZID=America/Los_Angeles:20250926T190000
DTEND;TZID=America/Los_Angeles:20250926T210000
DTSTAMP:20260421T185721
CREATED:20250924T231057Z
LAST-MODIFIED:20250924T231106Z
UID:4166-1758913200-1758920400@noorcollective.org
SUMMARY:Botox\, Liposuction\, and Small Noses: A Look at Plastic Surgery in Islam
DESCRIPTION:In this week’s program\, Seyed Ali is going over the cosmetic and plastic surgery industry and its compatibility (or lack of?)  with Islam. \nSchedule:\n7:00pm: Doors open\n7:10pm: Prayers\n7:30pm: Lecture by Seyed Ali & Q&A\n8:30pm: Dinner \n 
URL:https://noorcollective.org/event/botox-liposuction-and-small-noses-a-look-at-plastic-surgery-in-islam/
CATEGORIES:Lecture
ATTACH;FMTTYPE=image/jpeg:https://noorcollective.org/wp-content/uploads/photo_2025-09-23_16-29-48.jpg
END:VEVENT
BEGIN:VEVENT
DTSTART;TZID=America/Los_Angeles:20251002T190000
DTEND;TZID=America/Los_Angeles:20251002T210000
DTSTAMP:20260421T185721
CREATED:20251001T194926Z
LAST-MODIFIED:20251001T194926Z
UID:4174-1759431600-1759438800@noorcollective.org
SUMMARY:Dua Kumayl @7:00pm
DESCRIPTION:Thursday – Dua Kumayl @7:00pm\n🕢 7:00 PM – Doors Open\n🧎 7:05 PM – Prayers\n🎙 7:25 PM – Short Talk by Seyed Ali & Dua Kumayl\n🍽 8:30 PM – Light refreshments\n—————————————
URL:https://noorcollective.org/event/dua-kumayl-700pm-6/
END:VEVENT
BEGIN:VEVENT
DTSTART;TZID=America/Los_Angeles:20251003T125000
DTEND;TZID=America/Los_Angeles:20251003T140000
DTSTAMP:20260421T185721
CREATED:20251001T195013Z
LAST-MODIFIED:20251001T195013Z
UID:4175-1759495800-1759500000@noorcollective.org
SUMMARY:Jummah Prayer @ 12:50 PM
DESCRIPTION:🕌 Friday – Jummah Prayer @ 12:50 PM\n🕛 12:50 PM – Khutbah Begins
URL:https://noorcollective.org/event/jummah-prayer-1250-pm/
END:VEVENT
BEGIN:VEVENT
DTSTART;TZID=America/Los_Angeles:20251003T190000
DTEND;TZID=America/Los_Angeles:20251003T210000
DTSTAMP:20260421T185721
CREATED:20251001T195104Z
LAST-MODIFIED:20251001T195104Z
UID:4176-1759518000-1759525200@noorcollective.org
SUMMARY:Botox\, Liposuction\, and Small Noses: A Look At Plastic Surgery In Islam Part 2 @ 7:00 PM
DESCRIPTION:🌙 Friday Night: Botox\, Liposuction\, and Small Noses: A Look At Plastic Surgery In Islam Part 2 @ 7:00 PM\n🕢 7:00 PM – Doors Open\n🧎 7:10 PM – Prayers\n🎙 7:30 PM – Talk by Seyed Ali + Q&A\n🍽 8:45 PM – Dinner \n  \n📍 Location: 7969 Engineer Rd #110\, San Diego\, CA\n🔗 https://goo.gl/maps/i2HTdSVmLKjW25XR8
URL:https://noorcollective.org/event/botox-liposuction-and-small-noses-a-look-at-plastic-surgery-in-islam-part-2-700-pm/
CATEGORIES:Lecture
ATTACH;FMTTYPE=image/jpeg:https://noorcollective.org/wp-content/uploads/photo_2025-09-26_15-21-46.jpg
END:VEVENT
END:VCALENDAR